BEGIN:VCALENDAR
VERSION:2.0
PRODID:-//Brite Ideas Aquaponics, Hydroponics &amp; Organics - ECPv6.15.11//NONSGML v1.0//EN
CALSCALE:GREGORIAN
METHOD:PUBLISH
X-ORIGINAL-URL:https://www.bihydro.com
X-WR-CALDESC:Events for Brite Ideas Aquaponics, Hydroponics &amp; Organics
REFRESH-INTERVAL;VALUE=DURATION:PT1H
X-Robots-Tag:noindex
X-PUBLISHED-TTL:PT1H
BEGIN:VTIMEZONE
TZID:UTC
BEGIN:STANDARD
TZOFFSETFROM:+0000
TZOFFSETTO:+0000
TZNAME:UTC
DTSTART:20170101T000000
END:STANDARD
END:VTIMEZONE
BEGIN:VEVENT
DTSTART;TZID=UTC:20190202T120000
DTEND;TZID=UTC:20190202T133000
DTSTAMP:20260423T140547
CREATED:20190130T043037Z
LAST-MODIFIED:20190130T043037Z
UID:3670-1549108800-1549114200@www.bihydro.com
SUMMARY:SEEDLINGS & MICROGREENS IN AQUAPONICS with Jason Avent!
DESCRIPTION:An aquaponics system can be used to make the most prolific and profitable crops- seedlings and microgreens. Learn the techniques that make your system produce reliable crops and catalyze agriculture outside the aquaponics system.\nAll FREE classes held every Saturday at noon:\n4201 S. Congress Ave. Ste. 310\n512.444.2100\nwww.bihydro.com
URL:https://www.bihydro.com/event/seedlings-microgreens-in-aquaponics-with-jason-avent/
LOCATION:South Austin location\, 4201 S. Congress Ave. Ste. 310\, Austin\, 78745
CATEGORIES:Classes
ATTACH;FMTTYPE=image/png:https://www.bihydro.com/wp-content/uploads/2019/01/RaftGreens.png
END:VEVENT
BEGIN:VEVENT
DTSTART;TZID=UTC:20190126T120000
DTEND;TZID=UTC:20190126T133000
DTSTAMP:20260423T140547
CREATED:20190123T020616Z
LAST-MODIFIED:20190123T020727Z
UID:3659-1548504000-1548509400@www.bihydro.com
SUMMARY:Sleep\, Light and the Wintertime Blahs with Jason Avent!
DESCRIPTION:You snooze or you lose. Sleep is complex and necessary and light you get in the day controls your nighttime slumber. Take the reigns of your sleep cycle and reap the benefits!\nAll FREE classes held every Saturday at noon – South Austin location:\n4201 S. Congress Ave. Ste. 310\n512.444.2100\nwww.bihydro.com
URL:https://www.bihydro.com/event/sleep-light-and-the-wintertime-blahs-with-jason-avent/
LOCATION:South Austin location\, 4201 S. Congress Ave. Ste. 310\, Austin\, 78745
CATEGORIES:Classes
ATTACH;FMTTYPE=image/jpeg:https://www.bihydro.com/wp-content/uploads/2019/01/item_4196-e1548187604252.jpg
END:VEVENT
BEGIN:VEVENT
DTSTART;TZID=UTC:20190119T120000
DTEND;TZID=UTC:20190119T133000
DTSTAMP:20260423T140547
CREATED:20190118T021356Z
LAST-MODIFIED:20190118T021356Z
UID:3650-1547899200-1547904600@www.bihydro.com
SUMMARY:BASIC HYDROPONICS with Jason Avent!
DESCRIPTION:Hydroponics can be boiled down to a few basic concepts and the plants will do quite well. We will discuss the right location\, lighting\, nutrition\, and crops for optimal hydroponic production. \nAll FREE classes held every Saturday at noon – South Austin location:\n4201 S. Congress Ave. Ste. 310\n512.444.2100\nwww.bihydro.com
URL:https://www.bihydro.com/event/basic-hydroponics-with-jason-avent/
LOCATION:South Austin location\, 4201 S. Congress Ave. Ste. 310\, Austin\, 78745
CATEGORIES:Classes
ATTACH;FMTTYPE=image/png:https://www.bihydro.com/wp-content/uploads/2018/04/pastedImage-4.png
END:VEVENT
BEGIN:VEVENT
DTSTART;TZID=UTC:20190112T120000
DTEND;TZID=UTC:20190112T133000
DTSTAMP:20260423T140547
CREATED:20190109T031523Z
LAST-MODIFIED:20190109T031523Z
UID:3646-1547294400-1547299800@www.bihydro.com
SUMMARY:REPROGRAM YOUR (NEW) BODY WITH KOMBUCHA with Jason Avent!
DESCRIPTION:“The Devil made me do it” and “I couldn’t help myself” sound like low willpower\, poor planning or both. These cravings may be rooted in our gut contents rather than our personalities. Come learn how kombucha can ease these irrepressible signals and give you back control of your health. \n\nAll FREE classes held every Saturday at noon (South Austin location):\n4201 S. Congress Ave. Ste. 310\n512.444.2100\nwww.bihydro.com
URL:https://www.bihydro.com/event/reprogram-your-new-body-with-kombucha-with-jason-avent/
LOCATION:South Austin location\, 4201 S. Congress Ave. Ste. 310\, Austin\, 78745
CATEGORIES:Classes
ATTACH;FMTTYPE=image/png:https://www.bihydro.com/wp-content/uploads/2019/01/Gut-Brain_Axis.png
END:VEVENT
BEGIN:VEVENT
DTSTART;TZID=UTC:20190106T120000
DTEND;TZID=UTC:20190106T133000
DTSTAMP:20260423T140547
CREATED:20181219T033446Z
LAST-MODIFIED:20181219T033446Z
UID:3630-1546776000-1546781400@www.bihydro.com
SUMMARY:NO CLASS SCHEDULED
DESCRIPTION:We will not be holding a class this Saturday due to the holidays.
URL:https://www.bihydro.com/event/no-class-scheduled-8/
LOCATION:South Austin location\, 4201 S. Congress Ave. Ste. 310\, Austin\, 78745
CATEGORIES:Classes
END:VEVENT
BEGIN:VEVENT
DTSTART;TZID=UTC:20181229T120000
DTEND;TZID=UTC:20181229T133000
DTSTAMP:20260423T140547
CREATED:20181219T033306Z
LAST-MODIFIED:20181219T033306Z
UID:3627-1546084800-1546090200@www.bihydro.com
SUMMARY:NO CLASS SCHEDULED
DESCRIPTION:We will not be holding a class this Saturday due to the holidays.
URL:https://www.bihydro.com/event/no-class-scheduled-7/
LOCATION:South Austin location\, 4201 S. Congress Ave. Ste. 310\, Austin\, 78745
CATEGORIES:Classes
END:VEVENT
BEGIN:VEVENT
DTSTART;TZID=UTC:20181222T120000
DTEND;TZID=UTC:20181222T133000
DTSTAMP:20260423T140547
CREATED:20181219T033125Z
LAST-MODIFIED:20181219T033125Z
UID:3625-1545480000-1545485400@www.bihydro.com
SUMMARY:NO CLASS SCHEDULED
DESCRIPTION:We will not be holding a class this Saturday due to the holidays.
URL:https://www.bihydro.com/event/no-class-scheduled-6/
LOCATION:South Austin location\, 4201 S. Congress Ave. Ste. 310\, Austin\, 78745
CATEGORIES:Classes
END:VEVENT
BEGIN:VEVENT
DTSTART;TZID=UTC:20181215T120000
DTEND;TZID=UTC:20181215T123000
DTSTAMP:20260423T140547
CREATED:20181212T014524Z
LAST-MODIFIED:20181212T014524Z
UID:3623-1544875200-1544877000@www.bihydro.com
SUMMARY:Radiation\, Shielding\, Earthing & Magnetic Fields Effects on Water\, People\, Plants & Fish with Jason Avent!
DESCRIPTION:Radiation\, magnetic fields and electron flow are mysterious constitute much of what is known as “magic”. Discover rational approaches to mitigating the hazards and understand the upsides of these powerful systems.\n\nAll FREE classes held every Saturday at noon – South Austin location:\n4201 S. Congress Ave. Ste. 310\n512.444.2100\nwww.bihydro.com
URL:https://www.bihydro.com/event/radiation-shielding-earthing-magnetic-fields-effects-on-water-people-plants-fish-with-jason-avent/
LOCATION:South Austin location\, 4201 S. Congress Ave. Ste. 310\, Austin\, 78745
CATEGORIES:Classes
ATTACH;FMTTYPE=image/jpeg:https://www.bihydro.com/wp-content/uploads/2018/08/filingsMagnetism3.jpg
END:VEVENT
BEGIN:VEVENT
DTSTART;TZID=UTC:20181208T120000
DTEND;TZID=UTC:20181208T133000
DTSTAMP:20260423T140547
CREATED:20181205T235722Z
LAST-MODIFIED:20181205T235722Z
UID:3615-1544270400-1544275800@www.bihydro.com
SUMMARY:KOMBUCHA & KIMCHI with Jason Avent!
DESCRIPTION:Fermented foods have gained popularity\, but to get the most from these they need to be alive and freshly made. Learn how to make these delicious and potently healthy foods.\nJoin us for our FREE class every Saturday at noon – South Austin Brite Ideas:\n4201 S. Congress Ave. Ste. 310\n512.444.2100\nwww.bihydro.com
URL:https://www.bihydro.com/event/kombucha-kimchi-with-jason-avent/
LOCATION:South Austin location\, 4201 S. Congress Ave. Ste. 310\, Austin\, 78745
CATEGORIES:Classes
ATTACH;FMTTYPE=image/jpeg:https://www.bihydro.com/wp-content/uploads/2016/09/fermented-foods.jpg
END:VEVENT
BEGIN:VEVENT
DTSTART;TZID=UTC:20181201T120000
DTEND;TZID=UTC:20181201T133000
DTSTAMP:20260423T140547
CREATED:20181128T003344Z
LAST-MODIFIED:20181128T003344Z
UID:3603-1543665600-1543671000@www.bihydro.com
SUMMARY:Aquaponics Off the Grid and On the Cheap with Jason Avent!
DESCRIPTION:Doing as much as you can with few resources can be a challenge. Self-sufficiency can come with high upfront costs\, even though it is more stable and cheaper to operate in the long run. Learn how to economize on energy and equipment using some ingenuity while taking advantage of natural phenomenon and reused materials. \nAll FREE classes held every Saturday at noon – South Austin location:\n4201 S. Congress Ave. Ste. 310\n512.444.2100\nwww.bihydro.com \n  \n 
URL:https://www.bihydro.com/event/aquaponics-off-the-grid-and-on-the-cheap-with-jason-avent/
LOCATION:South Austin location\, 4201 S. Congress Ave. Ste. 310\, Austin\, 78745
CATEGORIES:Classes
ATTACH;FMTTYPE=image/jpeg:https://www.bihydro.com/wp-content/uploads/2016/06/AquaponicsGreenhouse.jpg
END:VEVENT
BEGIN:VEVENT
DTSTART;TZID=UTC:20181124T120000
DTEND;TZID=UTC:20181124T133000
DTSTAMP:20260423T140547
CREATED:20181120T003553Z
LAST-MODIFIED:20181120T003748Z
UID:3591-1543060800-1543066200@www.bihydro.com
SUMMARY:NO CLASS SCHEDULED
DESCRIPTION:No Class Scheduled
URL:https://www.bihydro.com/event/no-class-scheduled-5/
LOCATION:South Austin location\, 4201 S. Congress Ave. Ste. 310\, Austin\, 78745
CATEGORIES:Classes
END:VEVENT
BEGIN:VEVENT
DTSTART;TZID=UTC:20181117T120000
DTEND;TZID=UTC:20181117T133000
DTSTAMP:20260423T140547
CREATED:20181114T024811Z
LAST-MODIFIED:20181114T024811Z
UID:3581-1542456000-1542461400@www.bihydro.com
SUMMARY:COMPOSTING & AUSTIN INCENTIVES with Compost Coalition!
DESCRIPTION:You have thought about composting\, but it has so many benefits beyond your home and garden. Learn how to do it well\, help yourself and help the environment.\n\nAll FREE classes held every Saturday at noon – South Austin location:\n4201 S. Congress Ave. Ste. 310\n512.444.2100\nwww.bihydro.com
URL:https://www.bihydro.com/event/composting-austin-incentives-with-compost-coalition/
LOCATION:South Austin location\, 4201 S. Congress Ave. Ste. 310\, Austin\, 78745
CATEGORIES:Classes
ATTACH;FMTTYPE=image/jpeg:https://www.bihydro.com/wp-content/uploads/2018/11/cmpostcoalitionaustin.jpg
END:VEVENT
BEGIN:VEVENT
DTSTART;TZID=UTC:20181110T120000
DTEND;TZID=UTC:20181110T133000
DTSTAMP:20260423T140547
CREATED:20181107T024011Z
LAST-MODIFIED:20181107T024011Z
UID:3571-1541851200-1541856600@www.bihydro.com
SUMMARY:THE GIFT OF HERBAL KOMBUCHA & KOMBUCHA VINEGAR with Jason Avent!
DESCRIPTION:Kombucha has healing\, probiotic and nutritional properties that make it a medicinal powerhouse. Learn how you can add to this already impressive repertoire by making herbal kombucha with impressive new properties and flavors. Express your mixology and give the gift of good health. \nAll FREE classes held every Saturday at noon – South Austin location:\n4201 S. Congress Ave. Ste. 310\n512.444.2100\nwww.bihydro.com
URL:https://www.bihydro.com/event/the-gift-of-herbal-kombucha-kombucha-vinegar-with-jason-avent/
LOCATION:South Austin location\, 4201 S. Congress Ave. Ste. 310\, Austin\, 78745
CATEGORIES:Classes
ATTACH;FMTTYPE=image/jpeg:https://www.bihydro.com/wp-content/uploads/2016/12/thumbnail_herbs-mortarpestle.jpg
END:VEVENT
BEGIN:VEVENT
DTSTART;TZID=UTC:20181103T120000
DTEND;TZID=UTC:20181103T133000
DTSTAMP:20260423T140547
CREATED:20181030T211535Z
LAST-MODIFIED:20181030T211535Z
UID:3568-1541246400-1541251800@www.bihydro.com
SUMMARY:AQUAPONICS FOR THE FALL GARDENER with Jason Avent!
DESCRIPTION:We made it through summer and now it is time to think about how our gardens will grow through the fall and winter. Find out why this is our best growing season and take advantage of the beautiful weather! \nAll FREE classes held every Saturday at noon – South Austin location:\n4201 S. Congress Ave. Ste. 310\n512.444.2100\nwww.bihydro.com
URL:https://www.bihydro.com/event/aquaponics-for-the-fall-gardener-with-jason-avent/
LOCATION:South Austin location\, 4201 S. Congress Ave. Ste. 310\, Austin\, 78745
CATEGORIES:Classes
ATTACH;FMTTYPE=image/jpeg:https://www.bihydro.com/wp-content/uploads/2018/10/AutumnPond.jpg
END:VEVENT
BEGIN:VEVENT
DTSTART;TZID=UTC:20181027T120000
DTEND;TZID=UTC:20181027T133000
DTSTAMP:20260423T140547
CREATED:20181025T023651Z
LAST-MODIFIED:20181025T023651Z
UID:3559-1540641600-1540647000@www.bihydro.com
SUMMARY:NO CLASS SCHEDULED
DESCRIPTION:
URL:https://www.bihydro.com/event/no-class-scheduled-4/
LOCATION:South Austin location\, 4201 S. Congress Ave. Ste. 310\, Austin\, 78745
CATEGORIES:Classes
END:VEVENT
BEGIN:VEVENT
DTSTART;TZID=UTC:20181020T120000
DTEND;TZID=UTC:20181020T133000
DTSTAMP:20260423T140547
CREATED:20181017T002150Z
LAST-MODIFIED:20181017T002150Z
UID:3550-1540036800-1540042200@www.bihydro.com
SUMMARY:The Septic-Scape with Jason Avent!
DESCRIPTION:Septic systems are a conundrum. The water and nutrients they produce are a valuable resource\, but there is fear of disease and chemical contamination that makes them unsuitable for food crops. Learn how to make a septic field more than a mowing chore and get the most from your landscape. \nAll FREE classes held every Saturday at noon – South Austin Brite Ideas:\n4201 S. Congress Ave. Ste. 310\n512.444.2100\nwww.bihydro.com
URL:https://www.bihydro.com/event/the-septic-scape-with-jason-avent/
LOCATION:South Austin location\, 4201 S. Congress Ave. Ste. 310\, Austin\, 78745
CATEGORIES:Classes
ATTACH;FMTTYPE=image/png:https://www.bihydro.com/wp-content/uploads/2018/10/septicsprayer.png
END:VEVENT
BEGIN:VEVENT
DTSTART;TZID=UTC:20181013T120000
DTEND;TZID=UTC:20181013T133000
DTSTAMP:20260423T140547
CREATED:20181009T204248Z
LAST-MODIFIED:20181009T204248Z
UID:3539-1539432000-1539437400@www.bihydro.com
SUMMARY:Kombucha Buzz! with Jason Avent - South Austin Brite Ideas
DESCRIPTION:Kombucha is so much better when you make it at home. Sugary commercial kombucha have less than 0.5% alcohol; when you make it at home… it can be exactly the way you like it. If you like sour beer or sour foods in general\, you will enjoy brewing kombucha. Come explore the full utility of kombucha which can be an ale\, a cocktail mixer or a flavored vinegar.
URL:https://www.bihydro.com/event/kombucha-buzz-with-jason-avent-south-austin-brite-ideas/
LOCATION:South Austin location\, 4201 S. Congress Ave. Ste. 310\, Austin\, 78745
CATEGORIES:Classes
ATTACH;FMTTYPE=image/png:https://www.bihydro.com/wp-content/uploads/2016/10/AleVinegar.png
END:VEVENT
BEGIN:VEVENT
DTSTART;TZID=UTC:20181006T120000
DTEND;TZID=UTC:20181006T133000
DTSTAMP:20260423T140547
CREATED:20181002T205409Z
LAST-MODIFIED:20181002T205409Z
UID:3522-1538827200-1538832600@www.bihydro.com
SUMMARY:AQUAPONICS QUICK START with Jason Avent!
DESCRIPTION:Traditionally\, aquaponics is a slow process of building up nutrients for plants and filtration for\nfish. Slow startup\, dead fish and disappointing yields can be skipped by employing the “Quick\nStart” method developed at Brite Ideas and tested by our customers. Come learn how to take the\nfrustrations out of aquaponics while achieving stable systems and high yields.\n\nAll FREE classes held every Saturday at noon – South Austin location:\n4201 S. Congress Ave. Ste. 310\n512.444.2100\nwww.bihydro.com
URL:https://www.bihydro.com/event/aquaponics-quick-start-with-jason-avent-2/
LOCATION:South Austin location\, 4201 S. Congress Ave. Ste. 310\, Austin\, 78745
CATEGORIES:Classes
ATTACH;FMTTYPE=image/jpeg:https://www.bihydro.com/wp-content/uploads/2018/10/FishNitrates2.jpg
END:VEVENT
BEGIN:VEVENT
DTSTART;TZID=UTC:20180929T120000
DTEND;TZID=UTC:20180929T133000
DTSTAMP:20260423T140547
CREATED:20180925T235216Z
LAST-MODIFIED:20180925T235216Z
UID:3519-1538222400-1538227800@www.bihydro.com
SUMMARY:COMPOST TEA PART II with Jason Avent!
DESCRIPTION:This “sequel” to compost tea requires no foreknowledge. Last week we discussed why and what to use. This week\, we will be building a compost tea brewer in the class so we can learn about all of the parts and what they do.\nAll FREE classes held every Saturday at noon – South Austin Brite Ideas:\n4201 S. Congress Ave. Ste. 310\n512.444.2100\nwww.bihydro.com
URL:https://www.bihydro.com/event/compost-tea-part-ii-with-jason-avent/
LOCATION:South Austin location\, 4201 S. Congress Ave. Ste. 310\, Austin\, 78745
CATEGORIES:Classes
ATTACH;FMTTYPE=image/png:https://www.bihydro.com/wp-content/uploads/2018/09/CompostTeaBrew2.png
END:VEVENT
BEGIN:VEVENT
DTSTART;TZID=UTC:20180922T120000
DTEND;TZID=UTC:20180922T133000
DTSTAMP:20260423T140547
CREATED:20180918T233858Z
LAST-MODIFIED:20180918T233858Z
UID:3509-1537617600-1537623000@www.bihydro.com
SUMMARY:Compost Tea and The Soil Food Web with Jason Avent!
DESCRIPTION:Composting is a sophisticated process with lots of dogmatic thought and lineages of how to do it right. Brewing compost tea has almost as many techniques that clutter the landscape. We will dive deep into composting and compost tea to discern common elements and get optimum yields. \nAll FREE classes held every Saturday at noon – South Austin location:\n4201 S. Congress Ave. Ste. 310\n512.444.2100\nwww.bihydro.com
URL:https://www.bihydro.com/event/compost-tea-and-the-soil-food-web-with-jason-avent/
LOCATION:South Austin location\, 4201 S. Congress Ave. Ste. 310\, Austin\, 78745
CATEGORIES:Classes
ATTACH;FMTTYPE=image/jpeg:https://www.bihydro.com/wp-content/uploads/2018/09/WormyHands.jpg
END:VEVENT
BEGIN:VEVENT
DTSTART;TZID=UTC:20180915T120000
DTEND;TZID=UTC:20180915T133000
DTSTAMP:20260423T140547
CREATED:20180912T235151Z
LAST-MODIFIED:20180912T235151Z
UID:3500-1537012800-1537018200@www.bihydro.com
SUMMARY:MICROGREENS & SPROUTING with Jason Avent!
DESCRIPTION:The technology of sprouting seeds has been done since prehistoric times. This allows a nutritious and filling result with little effort. This knowledge has mostly been forgotten and sprouts are often relegated to a role as a garnish. Learn how to sprout for a simple\, low cost way to improve everything about the quality and flavor of your food! \n  \nAll FREE classes held every Saturday at noon – South Austin Brite Ideas:\n4201 S. Congress Ave. Ste. 10\n512.444.2100\nwww.bihydro.com
URL:https://www.bihydro.com/event/microgreens-sprouting-with-jason-avent/
LOCATION:South Austin location\, 4201 S. Congress Ave. Ste. 310\, Austin\, 78745
CATEGORIES:Classes
ATTACH;FMTTYPE=image/png:https://www.bihydro.com/wp-content/uploads/2018/09/pastedImage-5.png
END:VEVENT
BEGIN:VEVENT
DTSTART;TZID=UTC:20180908T120000
DTEND;TZID=UTC:20180908T133000
DTSTAMP:20260423T140547
CREATED:20180905T000337Z
LAST-MODIFIED:20180905T000337Z
UID:3488-1536408000-1536413400@www.bihydro.com
SUMMARY:KOMBUCHA\, FERMENTATION & YOUR HEALTH with Jason Avent!
DESCRIPTION:Kombucha from the market is usually a sugary drink with some sourness. The “real” kombucha has many health benefits that have been felt by many and now is backed by scientific data. Come find out how kombucha and other fermented foods promote a healthy lifestyle. Free SCOBY starters available! \nAll FREE classes held every Saturday at noon – \n4201 S. Congress Ave. Ste. 310\n512.444.2100\nwww.bihydro.com
URL:https://www.bihydro.com/event/kombucha-fermentation-health-jason-avent/
LOCATION:South Austin location\, 4201 S. Congress Ave. Ste. 310\, Austin\, 78745
CATEGORIES:Classes
ATTACH;FMTTYPE=image/png:https://www.bihydro.com/wp-content/uploads/2018/09/Satiation.png
END:VEVENT
BEGIN:VEVENT
DTSTART;TZID=UTC:20180901T120000
DTEND;TZID=UTC:20180901T133000
DTSTAMP:20260423T140547
CREATED:20180829T211827Z
LAST-MODIFIED:20180829T211827Z
UID:3486-1535803200-1535808600@www.bihydro.com
SUMMARY:AQUAPONICS DEMYSTIFIED with Jason Avent!
DESCRIPTION:Aquaponics systems are nutritious and educational\, but can be intimidating the same time. Learn the basics of what an aquaponics system is\, how it works and how to make it function properly. Hands-on grow bed construction and system design demonstrated in class. \nAll FREE classes held every Saturday at noon – South Austin location:\n4201 S. Congress Ave. Ste 310\n512.444.2100\nwww.bihydro.com
URL:https://www.bihydro.com/event/aquaponics-demystified-jason-avent-2/
LOCATION:South Austin location\, 4201 S. Congress Ave. Ste. 310\, Austin\, 78745
CATEGORIES:Classes
ATTACH;FMTTYPE=image/jpeg:https://www.bihydro.com/wp-content/uploads/2016/06/aquaponics-cycle.jpg
END:VEVENT
BEGIN:VEVENT
DTSTART;TZID=UTC:20180825T120000
DTEND;TZID=UTC:20180825T133000
DTSTAMP:20260423T140547
CREATED:20180822T025051Z
LAST-MODIFIED:20180822T025051Z
UID:3477-1535198400-1535203800@www.bihydro.com
SUMMARY:WICKING BEDS\, LAYERING & WORMS with Jason Avent!
DESCRIPTION:Passive systems are sometimes the right way to go in areas with limited power. Wicking beds can have fantastic yields\, less maintenance and reduced watering versus in-ground gardening. Learn how the right configuration\, layering and worm care will allow your garden to thrive with little effort. \n\nAll FREE classes held every Saturday at noon – South Austin location:\n4201 S. Congress Ave. Ste. 310\n512.444.2100\nwww.bihydro.com
URL:https://www.bihydro.com/event/wicking-beds-layering-worms-jason-avent-3/
LOCATION:South Austin location\, 4201 S. Congress Ave. Ste. 310\, Austin\, 78745
CATEGORIES:Classes
ATTACH;FMTTYPE=image/jpeg:https://www.bihydro.com/wp-content/uploads/2017/03/wickingbed.jpg
END:VEVENT
BEGIN:VEVENT
DTSTART;TZID=UTC:20180818T120000
DTEND;TZID=UTC:20180818T133000
DTSTAMP:20260423T140547
CREATED:20180816T020607Z
LAST-MODIFIED:20180816T020607Z
UID:3474-1534593600-1534599000@www.bihydro.com
SUMMARY:Radiation\, Shielding\, Earthing and Magnetic Fields effects on water\, people\, plants and fish with Jason Avent!
DESCRIPTION:Radiation\, magnetic fields and electron flow are mysterious constitute much of what is known as “magic”. Come understand how these invisible forces work. Discover rational approaches to mitigating the hazards and understand the upsides of these powerful systems.\n\nAll FREE classes held every Saturday at noon – South Austin location:\n4201 S. Congress Ave. Ste. 310\n512.444.2100\nwww.bihydro.com
URL:https://www.bihydro.com/event/radiation-shielding-earthing-magnetic-fields-effects-water-people-plants-fish-jason-avent-2/
LOCATION:South Austin location\, 4201 S. Congress Ave. Ste. 310\, Austin\, 78745
CATEGORIES:Classes
ATTACH;FMTTYPE=image/jpeg:https://www.bihydro.com/wp-content/uploads/2018/08/filingsMagnetism3.jpg
END:VEVENT
BEGIN:VEVENT
DTSTART;TZID=UTC:20180811T120000
DTEND;TZID=UTC:20180811T133000
DTSTAMP:20260423T140547
CREATED:20180808T215700Z
LAST-MODIFIED:20180808T215700Z
UID:3470-1533988800-1533994200@www.bihydro.com
SUMMARY:KOMBUCHA\, HOPS & SLEEP presented by Jason Avent!
DESCRIPTION:Hops is an incredible plant and has great affects upon sleep. Make (and taste) caffeine-free\, hopped kombucha while learning sleep hygiene and how to make your sleep work for you.\nAll FREE classes held every Saturday at noon – South Austin location:\n4201 S. Congress Ave. Ste. 310\n512.444.2100\nwww.bihydro.com
URL:https://www.bihydro.com/event/kombucha-hops-sleep-presented-jason-avent/
LOCATION:South Austin location\, 4201 S. Congress Ave. Ste. 310\, Austin\, 78745
CATEGORIES:Classes
ATTACH;FMTTYPE=image/png:https://www.bihydro.com/wp-content/uploads/2018/08/Hops2.png
END:VEVENT
BEGIN:VEVENT
DTSTART;TZID=UTC:20180804T120000
DTEND;TZID=UTC:20180804T133000
DTSTAMP:20260423T140547
CREATED:20180803T015241Z
LAST-MODIFIED:20180803T015928Z
UID:3467-1533384000-1533389400@www.bihydro.com
SUMMARY:AQUAPONICS: Off the Grid & On the Cheap with Jason Avent!
DESCRIPTION:Doing as much as you can with few resources can be a challenge. Self-sufficiency can come with high upfront costs\, even though it is more stable and cheaper to operate in the long run. Learn how to economize on energy and equipment by taking advantage of reused materials. \nwith Jason Avent!\nAll FREE classes held every Saturday at noon – South Austin location:\n4201 S. Congress Ave. Ste. 310\n512.444.2100\nwww.bihydro.com
URL:https://www.bihydro.com/event/aquaponics-off-grid-cheap-jason-avent-3/
LOCATION:South Austin location\, 4201 S. Congress Ave. Ste. 310\, Austin\, 78745
CATEGORIES:Classes
ATTACH;FMTTYPE=image/jpeg:https://www.bihydro.com/wp-content/uploads/2016/06/AquaponicsGreenhouse.jpg
END:VEVENT
BEGIN:VEVENT
DTSTART;TZID=UTC:20180728T120000
DTEND;TZID=UTC:20180728T133000
DTSTAMP:20260423T140547
CREATED:20180727T235739Z
LAST-MODIFIED:20180727T235739Z
UID:3465-1532779200-1532784600@www.bihydro.com
SUMMARY:ORGANIC HYDROPONICS with Jason Avent!
DESCRIPTION:A certified organic system can use hydroponic growing methods thanks to a new ruling by the national organic standards board. Come learn how to produce healthy\, wholesome crops without the need for dirt and all of the problems it brings. Discover what organic hydroponics can do for our food supply and our environment. \nAll FREE classes held every Saturday at noon – South Austin location:\n4201 S. Congress Ave. Ste. 310\n512.444.2100\nwww.bihydro.com
URL:https://www.bihydro.com/event/organic-hydroponics-jason-avent-5/
LOCATION:South Austin location\, 4201 S. Congress Ave. Ste. 310\, Austin\, 78745
CATEGORIES:Classes
ATTACH;FMTTYPE=image/png:https://www.bihydro.com/wp-content/uploads/2017/11/pastedImage-2.png
END:VEVENT
BEGIN:VEVENT
DTSTART;TZID=UTC:20180721T120000
DTEND;TZID=UTC:20180721T133000
DTSTAMP:20260423T140547
CREATED:20180717T221539Z
LAST-MODIFIED:20180717T221539Z
UID:3456-1532174400-1532179800@www.bihydro.com
SUMMARY:WATER AND SOIL CHEMISTRY DEMYSTIFIED with Jason Avent!
DESCRIPTION:Chemistry in our soil and water often defeats attempts to nourish plants and limits the nourishment we can achieve. Many fertilizers are needlessly wasted on plants that grow very little. Learn how to work with our soil and water chemistry through foliar feeding\, organic soil amendments and appropriate plant choices. \nAll FREE classes held every Saturday at noon – South Austin location:\n4201 S. Congress Ave. Ste. 310\n512.444.2100\nwww.bihydro.com
URL:https://www.bihydro.com/event/water-soil-chemistry-demystified-jason-avent-2/
LOCATION:South Austin location\, 4201 S. Congress Ave. Ste. 310\, Austin\, 78745
CATEGORIES:Classes
ATTACH;FMTTYPE=image/jpeg:https://www.bihydro.com/wp-content/uploads/2016/07/carbonate_chemistry_equations-1.jpg
END:VEVENT
BEGIN:VEVENT
DTSTART;TZID=UTC:20180714T120000
DTEND;TZID=UTC:20180714T133000
DTSTAMP:20260423T140547
CREATED:20180710T224034Z
LAST-MODIFIED:20180710T224034Z
UID:3453-1531569600-1531575000@www.bihydro.com
SUMMARY:KOMBUCHA AS FUNCTIONAL FOOD with Jason Avent!
DESCRIPTION:Kombucha already has a wonderful array of functions such as probiotic\, prebiotic\, and (optionally) caffeine. We have been experimenting with new flavors and functional herbal ingredients. Come sample the new herbal kombuchas and get a SCOBY to start your own that goes “above and beyond”. \nAll FREE classes held every Saturday at noon –  South Austin Brite Ideas:\n4201 S. Congress Ave. Ste. 310\n512.444.2100\nwww.bihydro.com
URL:https://www.bihydro.com/event/kombucha-functional-food-jason-avent-2/
LOCATION:South Austin location\, 4201 S. Congress Ave. Ste. 310\, Austin\, 78745
CATEGORIES:Classes
ATTACH;FMTTYPE=image/jpeg:https://www.bihydro.com/wp-content/uploads/2016/12/thumbnail_herbs-mortarpestle.jpg
END:VEVENT
END:VCALENDAR