BEGIN:VCALENDAR
VERSION:2.0
PRODID:-//Brite Ideas Aquaponics, Hydroponics &amp; Organics - ECPv6.15.11//NONSGML v1.0//EN
CALSCALE:GREGORIAN
METHOD:PUBLISH
X-ORIGINAL-URL:https://www.bihydro.com
X-WR-CALDESC:Events for Brite Ideas Aquaponics, Hydroponics &amp; Organics
REFRESH-INTERVAL;VALUE=DURATION:PT1H
X-Robots-Tag:noindex
X-PUBLISHED-TTL:PT1H
BEGIN:VTIMEZONE
TZID:UTC
BEGIN:STANDARD
TZOFFSETFROM:+0000
TZOFFSETTO:+0000
TZNAME:UTC
DTSTART:20150101T000000
END:STANDARD
END:VTIMEZONE
BEGIN:VEVENT
DTSTART;TZID=UTC:20170506T120000
DTEND;TZID=UTC:20170506T133000
DTSTAMP:20260424T022512
CREATED:20170504T015616Z
LAST-MODIFIED:20170504T015616Z
UID:2935-1494072000-1494077400@www.bihydro.com
SUMMARY:MODULAR AQUAPONICS: Hands-on with Jason Avent
DESCRIPTION:Aquaponics can be daunting when talking about hundreds of gallons and square feet of space. There is a myth about how large scale will make systems sustainable and efficient. We have designed economical systems at small scale making them more manageable and mobile. Come see how to build it at this hands-on class. \nAll FREE classes held every Saturday at noon (South Austin location):\n4201 S. Congress Ave. Ste. 310\n512.444.2100\nwww.bihydro.com
URL:https://www.bihydro.com/event/modular-aquaponics-hands-jason-avent/
LOCATION:South Austin location\, 4201 S. Congress Ave. Ste. 310\, Austin\, 78745
CATEGORIES:Classes
ATTACH;FMTTYPE=image/jpeg:https://www.bihydro.com/wp-content/uploads/2017/05/aquasprouts.jpg
END:VEVENT
BEGIN:VEVENT
DTSTART;TZID=UTC:20170429T120000
DTEND;TZID=UTC:20170429T133000
DTSTAMP:20260424T022512
CREATED:20170425T221035Z
LAST-MODIFIED:20170425T221035Z
UID:2931-1493467200-1493472600@www.bihydro.com
SUMMARY:POLLINATORS\, PREDATORS & BENEFICIALS with Jason Avent!
DESCRIPTION:We know we need them\, and when they are gone\, it will be catastrophic. Learn how you can create healthy habitat for all of the beneficial critters in your garden. Learn the official organic standard and stop making mistakes that cost your garden its peak productivity. \nAll FREE classes held every Saturday at noon (South Austin location):\n4201 S. Congress Ave. Ste. 310\n512.444.2100\nwww.bihydro.com
URL:https://www.bihydro.com/event/pollinators-predators-beneficials-jason-avent/
LOCATION:South Austin location\, 4201 S. Congress Ave. Ste. 310\, Austin\, 78745
CATEGORIES:Classes
ATTACH;FMTTYPE=image/gif:https://www.bihydro.com/wp-content/uploads/2017/04/pollinators2.gif
END:VEVENT
BEGIN:VEVENT
DTSTART;TZID=UTC:20170422T120000
DTEND;TZID=UTC:20170422T133000
DTSTAMP:20260424T022512
CREATED:20170419T215055Z
LAST-MODIFIED:20170419T215055Z
UID:2917-1492862400-1492867800@www.bihydro.com
SUMMARY:KOMBUCHA & YOUR MICROBIOME with Jason Avent!
DESCRIPTION:We often think of microbes as gross\, slimy and dangerous. Myths and well-meaning people have given us over-processed and preserved foods that impede your gut from having healthy microbes. Learn about Kombucha as a way to support good gut health and learn to love the little helpers we all need. \nAll FREE classes held every Saturday at noon (South Austin location): \n4201 S. Congress Ave. Ste. 310\n512.444.2100\nwww.bihydro.com
URL:https://www.bihydro.com/event/kombucha-microbiome-jason-avent/
LOCATION:South Austin location\, 4201 S. Congress Ave. Ste. 310\, Austin\, 78745
CATEGORIES:Classes
ATTACH;FMTTYPE=image/jpeg:https://www.bihydro.com/wp-content/uploads/2016/05/Microbes.jpg
END:VEVENT
BEGIN:VEVENT
DTSTART;TZID=UTC:20170415T120000
DTEND;TZID=UTC:20170415T130000
DTSTAMP:20260424T022512
CREATED:20170412T003411Z
LAST-MODIFIED:20170412T003411Z
UID:2914-1492257600-1492261200@www.bihydro.com
SUMMARY:NO CLASS
DESCRIPTION:ALL THREE STORES WILL BE OPENED ON GOOD FRIDAY APRIL 14TH AND CLOSED ON EASTER SUNDAY APRIL 16TH!! \nIn addition\, we will not be holding a class Saturday\, April 15 \nHAPPY EASTER!!
URL:https://www.bihydro.com/event/no-class-4/
LOCATION:South Austin location\, 4201 S. Congress Ave. Ste. 310\, Austin\, 78745
CATEGORIES:Classes
ORGANIZER;CN="Brite Ideas":MAILTO:Troy@bihydro.com
END:VEVENT
BEGIN:VEVENT
DTSTART;TZID=UTC:20170408T120000
DTEND;TZID=UTC:20170408T133000
DTSTAMP:20260424T022512
CREATED:20170406T012254Z
LAST-MODIFIED:20170406T012254Z
UID:2904-1491652800-1491658200@www.bihydro.com
SUMMARY:GARDENING IN TIGHT SPACES with Jason Avent
DESCRIPTION:Many would-be gardeners rent an apartment or have limited space to grow; they think that they have to put their garden off until “someday”. You can grow so much inside\, on balconies and windows to get the benefits of fresh greenery once you see the possibilities. \nAll FREE classes held every Saturday at noon (South Austin location): \n4201 S. Congress Ave. Ste. 310\n512.444.2100\nwww.bihydro.com \n  \n 
URL:https://www.bihydro.com/event/gardening-tight-spaces-jason-avent/
LOCATION:South Austin location\, 4201 S. Congress Ave. Ste. 310\, Austin\, 78745
CATEGORIES:Classes
ATTACH;FMTTYPE=image/jpeg:https://www.bihydro.com/wp-content/uploads/2017/04/ShowerGarden.jpg
END:VEVENT
BEGIN:VEVENT
DTSTART;TZID=UTC:20170401T120000
DTEND;TZID=UTC:20170401T133000
DTSTAMP:20260424T022512
CREATED:20170329T213857Z
LAST-MODIFIED:20170329T213857Z
UID:2891-1491048000-1491053400@www.bihydro.com
SUMMARY:Aquaponics to Beat the Heat with Jason Avent
DESCRIPTION:Plants are usually unproductive through our increasingly hot summers. Aquaponics represent the pinnacle of the practical\, passive steps we can take. Learn how site selection\, companion planting and advanced cooling strategies can make your garden thrive\, creating an oasis for yourself and your pets.\nAll FREE classes held every Saturday at noon (South Austin location): \n4201 S. Congress Ave. Ste. 310\n512.444.2100\nwww.bihydro.com
URL:https://www.bihydro.com/event/aquaponics-beat-heat-jason-avent/
LOCATION:South Austin location\, 4201 S. Congress Ave. Ste. 310\, Austin\, 78745
CATEGORIES:Classes
ATTACH;FMTTYPE=image/gif:https://www.bihydro.com/wp-content/uploads/2017/03/WiltFlower.gif
END:VEVENT
BEGIN:VEVENT
DTSTART;TZID=UTC:20170325T120000
DTEND;TZID=UTC:20170325T133000
DTSTAMP:20260424T022512
CREATED:20170322T212211Z
LAST-MODIFIED:20170322T212318Z
UID:2881-1490443200-1490448600@www.bihydro.com
SUMMARY:Caring for Your Brain with Your Garden Preventing type 3 diabetes (Alzheimer's) with Jason Avent
DESCRIPTION:So many of the things needed for optimal brain health are in the garden and come out of it. Come join a discussion about the environmental and nutritional influences upon brain health.\nAll FREE classes held every Saturday at noon (South Austin location): \n4201 S. Congress Ave. Ste. 310\n512.444.2100\nwww.bihydro.com
URL:https://www.bihydro.com/event/caring-brain-garden-preventing-type-3-diabetes-alzheimers/
LOCATION:South Austin location\, 4201 S. Congress Ave. Ste. 310\, Austin\, 78745
CATEGORIES:Classes
ATTACH;FMTTYPE=image/png:https://www.bihydro.com/wp-content/uploads/2017/03/BrainGarden.png
END:VEVENT
BEGIN:VEVENT
DTSTART;TZID=UTC:20170318T120000
DTEND;TZID=UTC:20170318T133000
DTSTAMP:20260424T022512
CREATED:20170315T222857Z
LAST-MODIFIED:20170315T222857Z
UID:2877-1489838400-1489843800@www.bihydro.com
SUMMARY:WICKING BEDS\, LAYERING & WORMS with Jason Avent
DESCRIPTION:Passive systems are sometimes the right way to go in areas with limited power. Wicking beds can have fantastic yields require less maintenance and reduced watering versus in-ground gardening. Learn how the right configuration\, layering and worm care can develop a sophisticated system that thrives with little effort. \nAll FREE classes held every Saturday at noon (South Austin location): \n4201 S. Congress Ave. Ste. 310\n512.444.2100\nwww.bihydro.com
URL:https://www.bihydro.com/event/wicking-beds-layering-worms-jason-avent/
LOCATION:South Austin location\, 4201 S. Congress Ave. Ste. 310\, Austin\, 78745
CATEGORIES:Classes
ATTACH;FMTTYPE=image/jpeg:https://www.bihydro.com/wp-content/uploads/2017/03/wickingbed.jpg
END:VEVENT
BEGIN:VEVENT
DTSTART;TZID=UTC:20170311T120000
DTEND;TZID=UTC:20170311T133000
DTSTAMP:20260424T022512
CREATED:20170308T042823Z
LAST-MODIFIED:20170308T042823Z
UID:2868-1489233600-1489239000@www.bihydro.com
SUMMARY:Herbal Kombucha and Flavored Kombucha Vinegar with Jason Avent
DESCRIPTION:Kombucha already has a wonderful array of functions such as probiotic and prebiotic. Learn how to make teas for kombucha and spiking after fermentation to bring out a wide range of functional benefits from herbal ingredients. Come sample the new herbal kombuchas and get a SCOBY to start your own. \nAll FREE classes held every Saturday at noon (South Austin location): \n4201 S. Congress Ave. Ste. 310\n512.444.2100\nwww.bihydro.com
URL:https://www.bihydro.com/event/herbal-kombucha-flavored-kombucha-vinegar-jason-avent/
LOCATION:South Austin location\, 4201 S. Congress Ave. Ste. 310\, Austin\, 78745
CATEGORIES:Classes
ATTACH;FMTTYPE=image/jpeg:https://www.bihydro.com/wp-content/uploads/2016/12/thumbnail_herbs-mortarpestle.jpg
END:VEVENT
BEGIN:VEVENT
DTSTART;TZID=UTC:20170304T120000
DTEND;TZID=UTC:20170304T133000
DTSTAMP:20260424T022512
CREATED:20170301T040912Z
LAST-MODIFIED:20170301T040912Z
UID:2857-1488628800-1488634200@www.bihydro.com
SUMMARY:Hands-On Aquaponics: From Fin to Leaf! with Jason Avent
DESCRIPTION:  \nCome for the first of its kind workshop where all of the pieces and parts come together. Participate in building a complete aquaponics system live in-class. \nAll FREE classes held every Saturday at noon (South Austin location): \n4201 S. Congress Ave. Ste. 310\n512.444.2100\nwww.bihydro.com
URL:https://www.bihydro.com/event/hands-aquaponics-fin-leaf-jason-avent/
LOCATION:South Austin location\, 4201 S. Congress Ave. Ste. 310\, Austin\, 78745
CATEGORIES:Classes
ATTACH;FMTTYPE=image/png:https://www.bihydro.com/wp-content/uploads/2017/02/AquaponicsLogoRound2.png
END:VEVENT
BEGIN:VEVENT
DTSTART;TZID=UTC:20170225T120000
DTEND;TZID=UTC:20170225T133000
DTSTAMP:20260424T022512
CREATED:20170222T040544Z
LAST-MODIFIED:20170222T040544Z
UID:2848-1488024000-1488029400@www.bihydro.com
SUMMARY:Hydroponic Vegetables and Seedlings with Jason Avent!
DESCRIPTION:Growing hydroponically can be a great way to get your gardening fix year around and grow transplants that you want instead of just the varieties the nurseries carry. Come discover how the simplicity of hydroponics can make your garden grow- inside and out. \nAll FREE classes held every Saturday at noon (South Austin location): \n4201 S. Congress Ave. Ste. 310\n512.444.2100\nwww.bihydro.com
URL:https://www.bihydro.com/event/hydroponic-vegetables-seedlings-jason-avent/
LOCATION:South Austin location\, 4201 S. Congress Ave. Ste. 310\, Austin\, 78745
CATEGORIES:Classes
ATTACH;FMTTYPE=image/jpeg:https://www.bihydro.com/wp-content/uploads/2017/02/Tomatoes.jpg
END:VEVENT
BEGIN:VEVENT
DTSTART;TZID=UTC:20170218T120000
DTEND;TZID=UTC:20170218T133000
DTSTAMP:20260424T022512
CREATED:20170215T002704Z
LAST-MODIFIED:20170215T002704Z
UID:2839-1487419200-1487424600@www.bihydro.com
SUMMARY:Water and Soil Chemistry Demystified with Jason Avent!
DESCRIPTION:Chemistry in our soil and water often defeats attempts to nourish plants and limits the nourishment we can achieve. Many fertilizers are needlessly wasted on plants that grow very little. Learn how to work with our soil and water chemistry through foliar feeding and organic fertility inputs. Some inexpensive amendments applied now will make your spring garden thrive. \nAll FREE classes every Saturday at noon (South Austin location): \n4201 S. Congress Ave. Ste. 310\n512.444.2100\nwww.bihydro.com \n 
URL:https://www.bihydro.com/event/water-soil-chemistry-demystified-jason-avent/
LOCATION:South Austin location\, 4201 S. Congress Ave. Ste. 310\, Austin\, 78745
CATEGORIES:Classes
ATTACH;FMTTYPE=image/jpeg:https://www.bihydro.com/wp-content/uploads/2016/07/carbonate_chemistry_equations-1.jpg
END:VEVENT
BEGIN:VEVENT
DTSTART;TZID=UTC:20170211T120000
DTEND;TZID=UTC:20170211T133000
DTSTAMP:20260424T022512
CREATED:20170208T033207Z
LAST-MODIFIED:20170208T033207Z
UID:2832-1486814400-1486819800@www.bihydro.com
SUMMARY:Kombucha\, Kraut and Kimchi with Jason Avent!
DESCRIPTION:Fermentation brings many health benefits and makes a garden bounty much more delicious. Come learn about fermentation methods and how they benefit your body and your budget. \nAll FREE classes held every Saturday at noon (South Austin location): \n4201 S. Congress Ave. Ste. 310\n512.444.2100\nwww.bihydro.com
URL:https://www.bihydro.com/event/kombucha-kraut-kimchi-jason-avent/
LOCATION:South Austin location\, 4201 S. Congress Ave. Ste. 310\, Austin\, 78745
CATEGORIES:Classes
ATTACH;FMTTYPE=image/jpeg:https://www.bihydro.com/wp-content/uploads/2017/01/Hibiscus.jpg
END:VEVENT
BEGIN:VEVENT
DTSTART;TZID=UTC:20170204T120000
DTEND;TZID=UTC:20170204T130000
DTSTAMP:20260424T022512
CREATED:20170201T004243Z
LAST-MODIFIED:20170201T004243Z
UID:2821-1486209600-1486213200@www.bihydro.com
SUMMARY:Hands-on Aquaponics with Jason Avent
DESCRIPTION:An aquaponics system can be built using a range of materials which have different costs and mobility. We will discuss the relative advantages of different materials and methods. The plumbing of a grow bed will be installed during class for a visceral learning experience. \nAll FREE classes held every Saturday at noon (South Austin location): \n4201 S. Congress Ave. Ste. 310\n512.444.2100\nwww.bihydro.com
URL:https://www.bihydro.com/event/hands-aquaponics-jason-avent/
LOCATION:South Austin location\, 4201 S. Congress Ave. Ste. 310\, Austin\, 78745
CATEGORIES:Classes
ATTACH;FMTTYPE=image/jpeg:https://www.bihydro.com/wp-content/uploads/2016/02/raised-bed-components.jpg
END:VEVENT
BEGIN:VEVENT
DTSTART;TZID=UTC:20170128T120000
DTEND;TZID=UTC:20170128T130000
DTSTAMP:20260424T022512
CREATED:20170125T004534Z
LAST-MODIFIED:20170125T004534Z
UID:2817-1485604800-1485608400@www.bihydro.com
SUMMARY:Pet-O-Ponics with Jason Avent!
DESCRIPTION:Aquaponics systems are often built upon a brutally efficient model where you eat everything. Find out how to introduce the wonders of aquaponics without eating the pets you become attached to. Ornamental fish\, worms and plants can create a profitable\, peaceful and exciting system. \nAll FREE classes held every Saturday at noon (South Austin location): \n4201 S. Congress Ave. Ste. 310\n512.444.2100\nwww.bihydro.com
URL:https://www.bihydro.com/event/pet-o-ponics-jason-avent/
LOCATION:South Austin location\, 4201 S. Congress Ave. Ste. 310\, Austin\, 78745
CATEGORIES:Classes
ATTACH;FMTTYPE=image/jpeg:https://www.bihydro.com/wp-content/uploads/2017/01/thumbnail_KoiWatermelon.jpg
END:VEVENT
BEGIN:VEVENT
DTSTART;TZID=UTC:20170121T120000
DTEND;TZID=UTC:20170121T130000
DTSTAMP:20260424T022512
CREATED:20170118T022351Z
LAST-MODIFIED:20170118T022351Z
UID:2813-1485000000-1485003600@www.bihydro.com
SUMMARY:SLEEP?!? with Jason Avent
DESCRIPTION:Sleep is a complex process that is easy to derail. Most of us focus on staying awake and use drugs like caffeine\, but the better remedy is to get quality sleep. Learn what nutrients\, herbs\, lighting and behaviors are effective and get your sleep back on track. \nAll FREE classes held every Saturday at noon (South Austin location): \n4201 S. Congress Ave. Ste. 310\n512.444.2100\nwww.bihydro.com \n 
URL:https://www.bihydro.com/event/sleep-jason-avent/
LOCATION:South Austin location\, 4201 S. Congress Ave. Ste. 310\, Austin\, 78745
CATEGORIES:Classes
ATTACH;FMTTYPE=image/png:https://www.bihydro.com/wp-content/uploads/2017/01/sleep.png
END:VEVENT
BEGIN:VEVENT
DTSTART;TZID=UTC:20170114T120000
DTEND;TZID=UTC:20170114T130000
DTSTAMP:20260424T022512
CREATED:20170112T033344Z
LAST-MODIFIED:20170112T033344Z
UID:2810-1484395200-1484398800@www.bihydro.com
SUMMARY:Kombucha- Flavors and Fizz! with Jason Avent
DESCRIPTION:Hands on demonstration of steps and stages in kombucha making. Many flavors to sample as well as kombucha vinegar. Bring your SCOBY to exchange or acquire your first.\n\nAll FREE classes held every Saturday at noon (South Austin location):\n4201 S. Congress Ave. Ste. 310\n512.444.2100\nwww.bihydro.com
URL:https://www.bihydro.com/event/kombucha-flavors-fizz-jason-avent/
LOCATION:South Austin location\, 4201 S. Congress Ave. Ste. 310\, Austin\, 78745
CATEGORIES:Classes
ATTACH;FMTTYPE=image/jpeg:https://www.bihydro.com/wp-content/uploads/2017/01/Hibiscus.jpg
END:VEVENT
BEGIN:VEVENT
DTSTART;TZID=UTC:20170107T120000
DTEND;TZID=UTC:20170107T133000
DTSTAMP:20260424T022512
CREATED:20170104T235310Z
LAST-MODIFIED:20170104T235419Z
UID:2806-1483790400-1483795800@www.bihydro.com
SUMMARY:Aquaponics on a Budget with Jason Avent!
DESCRIPTION:Aquaponics is a fascinating and rewarding system\, but it can be daunting to start given the costs and unknowns. Come learn how to recycle\, up-cycle and shop used to save money and time. \nAll FREE classes held every Saturday at noon (South Austin location): \n4201 S. Congress Ave. Ste. 310\n512.444.2100\nwww.bihydro.com \n  \n 
URL:https://www.bihydro.com/event/aquaponics-budget-jason-avent/
LOCATION:South Austin location\, 4201 S. Congress Ave. Ste. 310\, Austin\, 78745
CATEGORIES:Classes
ATTACH;FMTTYPE=image/png:https://www.bihydro.com/wp-content/uploads/2017/01/aquatub.png
END:VEVENT
BEGIN:VEVENT
DTSTART;TZID=UTC:20161217T120000
DTEND;TZID=UTC:20161217T130000
DTSTAMP:20260424T022512
CREATED:20161214T223300Z
LAST-MODIFIED:20161214T223300Z
UID:2795-1481976000-1481979600@www.bihydro.com
SUMMARY:GROWING INDOOR PLANTS with Jason Avent
DESCRIPTION:Growing inside may seem strange\, but can be more consistent and rewarding than outdoor cultivation. Avoid the weather and bugs and make your plants more than “houseplants” with proper fertilization and lighting.\n\nAll FREE classes held every Saturday at noon (South Austin location):\n4201 S. Congress Ave. Ste. 310\n512.444.2100\nwww.bihydro.com
URL:https://www.bihydro.com/event/growing-indoor-plants-jason-avent/
LOCATION:South Austin location\, 4201 S. Congress Ave. Ste. 310\, Austin\, 78745
CATEGORIES:Classes
ATTACH;FMTTYPE=image/png:https://www.bihydro.com/wp-content/uploads/2016/12/inddorplants.png
END:VEVENT
BEGIN:VEVENT
DTSTART;TZID=UTC:20161210T120000
DTEND;TZID=UTC:20161210T130000
DTSTAMP:20260424T022512
CREATED:20161207T011520Z
LAST-MODIFIED:20161207T034212Z
UID:2789-1481371200-1481374800@www.bihydro.com
SUMMARY:Kombucha as Functional Food with Jason Avent!
DESCRIPTION:Kombucha already has a wonderful array of functions such as probiotic\, prebiotic and caffeine. We have been experimenting with new flavors and functional herbal ingredients. Come sample the new herbal kombuchas and get a SCOBY to start your own that goes “above and beyond”.\n\nAll FREE classes held every Saturday at noon (South Austin location):\n\n4201 S. Congress Ave. Ste. 310\n512.444.2100\nwww.bihydro.com
URL:https://www.bihydro.com/event/kombucha-functional-food-jason-avent/
LOCATION:South Austin location\, 4201 S. Congress Ave. Ste. 310\, Austin\, 78745
CATEGORIES:Classes
ATTACH;FMTTYPE=image/jpeg:https://www.bihydro.com/wp-content/uploads/2016/12/thumbnail_herbs-mortarpestle.jpg
END:VEVENT
BEGIN:VEVENT
DTSTART;TZID=UTC:20161203T120000
DTEND;TZID=UTC:20161203T130000
DTSTAMP:20260424T022512
CREATED:20161130T023722Z
LAST-MODIFIED:20161130T023722Z
UID:2786-1480766400-1480770000@www.bihydro.com
SUMMARY:Winterizing Aquaponics with Jason Avent!
DESCRIPTION:Preparing for winter can be daunting. Learn how to do your winter preparations economically and quickly. Keep your system warm and toasty or go with a cold-hardy version through the winter. \nAll FREE classes held every Saturday at noon (South Austin location): \n4201 S. Congress Ave. Ste. 310\n512.444.2100\nwww.bihydro.com
URL:https://www.bihydro.com/event/winterizing-aquaponics-jason-avent/
LOCATION:South Austin location\, 4201 S. Congress Ave. Ste. 310\, Austin\, 78745
CATEGORIES:Classes
ATTACH;FMTTYPE=image/jpeg:https://www.bihydro.com/wp-content/uploads/2016/11/lit-greenhouse.jpeg
END:VEVENT
BEGIN:VEVENT
DTSTART;TZID=UTC:20161119T120000
DTEND;TZID=UTC:20161119T130000
DTSTAMP:20260424T022512
CREATED:20161117T002753Z
LAST-MODIFIED:20161117T002753Z
UID:2783-1479556800-1479560400@www.bihydro.com
SUMMARY:NO CLASS SCHEDULED
DESCRIPTION:We will not be having a class this Saturday\, November 19th. We apologize for any inconvenience.
URL:https://www.bihydro.com/event/no-class-scheduled/
LOCATION:South Austin location\, 4201 S. Congress Ave. Ste. 310\, Austin\, 78745
CATEGORIES:Classes
END:VEVENT
BEGIN:VEVENT
DTSTART;TZID=UTC:20161112T120000
DTEND;TZID=UTC:20161112T130000
DTSTAMP:20260424T022512
CREATED:20161109T005941Z
LAST-MODIFIED:20161109T010013Z
UID:2780-1478952000-1478955600@www.bihydro.com
SUMMARY:Science Experiments in Your Garden with Jason Avent
DESCRIPTION:Using the methods of scientific inquiry can help optimize your garden and answer questions that usually just linger. Learn how easy it is to make inquiry a part of how you do things and create an engaging way of asking and answering questions. Hands-on demos; kids welcome!
URL:https://www.bihydro.com/event/science-experiments-garden-jason-avent/
LOCATION:South Austin location\, 4201 S. Congress Ave. Ste. 310\, Austin\, 78745
CATEGORIES:Classes
ATTACH;FMTTYPE=image/jpeg:https://www.bihydro.com/wp-content/uploads/2016/11/GardenScience.jpg
END:VEVENT
BEGIN:VEVENT
DTSTART;TZID=UTC:20161105T120000
DTEND;TZID=UTC:20161105T130000
DTSTAMP:20260424T022512
CREATED:20161102T002741Z
LAST-MODIFIED:20161102T002741Z
UID:2777-1478347200-1478350800@www.bihydro.com
SUMMARY:Aquaponics and Sustainable Homesteading with Jason Avent!
DESCRIPTION:You want to grow your own food for many personal reasons like your family\, your health and your budget. Learn the tricks and techniques that can make any home a homestead\, even in an urban setting. Discussion will focus upon getting the most out of small spaces and optimizing the system for nutritional impact. \nAll FREE classes held every Saturday at noon (South Austin location): \n4201 S. Congress Ave. Ste. 310\n512.444.2100\nwww.bihydro.com \n 
URL:https://www.bihydro.com/event/aquaponics-sustainable-homesteading-jason-avent/
LOCATION:South Austin location\, 4201 S. Congress Ave. Ste. 310\, Austin\, 78745
CATEGORIES:Classes
ATTACH;FMTTYPE=image/jpeg:https://www.bihydro.com/wp-content/uploads/2016/11/Lean-toGHouse.jpg
END:VEVENT
BEGIN:VEVENT
DTSTART;TZID=UTC:20161029T120000
DTEND;TZID=UTC:20161029T130000
DTSTAMP:20260424T022512
CREATED:20161026T225929Z
LAST-MODIFIED:20161026T230116Z
UID:2775-1477742400-1477746000@www.bihydro.com
SUMMARY:"Eat Drink and be Wary!" with Jason Avent
DESCRIPTION:Healthy living seems harder the more you know. There is balance between being paralyzed with fear and living healthy and happy. This can be easy if you understand the real hazards and benefits. Learn the do’s and don’ts with appropriate grains of salt.\n\nAll FREE classes held every Saturday at noon (South Austin location):\n4201 S. Congress Ave. Ste. 310\n512.444.2100\nwww.bihydro.com
URL:https://www.bihydro.com/event/eat-drink-wary-jason-avent/
LOCATION:South Austin location\, 4201 S. Congress Ave. Ste. 310\, Austin\, 78745
CATEGORIES:Classes
ATTACH;FMTTYPE=image/png:https://www.bihydro.com/wp-content/uploads/2016/10/BatBad.png
END:VEVENT
BEGIN:VEVENT
DTSTART;TZID=UTC:20161022T120000
DTEND;TZID=UTC:20161022T130000
DTSTAMP:20260424T022512
CREATED:20161019T005050Z
LAST-MODIFIED:20161019T005050Z
UID:2772-1477137600-1477141200@www.bihydro.com
SUMMARY:ALT-Kombucha with Jason Avent
DESCRIPTION:Kombucha is so much better when you make it at home. Ditch the high-sugar commercial “kombucha” and make it exactly the way you like it. We will be exploring the many faces of kombucha. Kombucha vinegar\, kombucha ale and alternate sugar sources with lots of tasting opportunities! \nAll FREE classes held everySaturday at noon (South Austin location): \n4201 S. Congress Ave. Ste. 310\n512.444.2100\nwww.bihydro.com
URL:https://www.bihydro.com/event/alt-kombucha-jason-avent/
LOCATION:South Austin location\, 4201 S. Congress Ave. Ste. 310\, Austin\, 78745
CATEGORIES:Classes
ATTACH;FMTTYPE=image/png:https://www.bihydro.com/wp-content/uploads/2016/10/AleVinegar.png
END:VEVENT
BEGIN:VEVENT
DTSTART;TZID=UTC:20161015T120000
DTEND;TZID=UTC:20161015T130000
DTSTAMP:20260424T022512
CREATED:20161012T000503Z
LAST-MODIFIED:20161012T000503Z
UID:2769-1476532800-1476536400@www.bihydro.com
SUMMARY:Home Grown Mushrooms with Jason Avent!
DESCRIPTION:Mushrooms make an excellent cornerstone to your diet and can be grown very easily at home. There are so many good reasons to grow and eat mushrooms. Come find out all you need to know to grow mushrooms at home and maximize their nutritional value. \nAll FREE classes held every Saturday at noon (South Austin location): \n4201 S. Congress Ave. Ste. 310\n512.444.2100\nwww.bihydro.com
URL:https://www.bihydro.com/event/home-grown-mushrooms-jason-avent/
LOCATION:South Austin location\, 4201 S. Congress Ave. Ste. 310\, Austin\, 78745
CATEGORIES:Classes
ATTACH;FMTTYPE=image/jpeg:https://www.bihydro.com/wp-content/uploads/2016/10/MushroomKit.jpg
END:VEVENT
BEGIN:VEVENT
DTSTART;TZID=UTC:20161008T120000
DTEND;TZID=UTC:20161008T130000
DTSTAMP:20260424T022512
CREATED:20161004T211346Z
LAST-MODIFIED:20161004T211346Z
UID:2767-1475928000-1475931600@www.bihydro.com
SUMMARY:Pool-O-Ponics - aquaponics for your abandoned pool or spa w/ Jason Avent!
DESCRIPTION:Pools\, spas and ponds can sometimes outlive their usefulness. Learn how to repurpose these for your garden’s benefit and say goodbye to chemicals. You can even swim in a natural pool!\n\nJoin us for our FREE class every Saturday at noon (South Austin location):\n\n4201 S. Congress Ave. Ste. 310\n512.444.2100\nwww.bihydro.com
URL:https://www.bihydro.com/event/pool-o-ponics-aquaponics-abandoned-pool-spa-w-jason-avent/
LOCATION:South Austin location\, 4201 S. Congress Ave. Ste. 310\, Austin\, 78745
CATEGORIES:Classes
ATTACH;FMTTYPE=image/jpeg:https://www.bihydro.com/wp-content/uploads/2016/10/pooloponics.jpeg
END:VEVENT
BEGIN:VEVENT
DTSTART;TZID=UTC:20161001T120000
DTEND;TZID=UTC:20161001T130000
DTSTAMP:20260424T022512
CREATED:20160928T003500Z
LAST-MODIFIED:20160928T003625Z
UID:2764-1475323200-1475326800@www.bihydro.com
SUMMARY:Kombucha\, Kimchi and Fermented Food Benefits with Jason Avent
DESCRIPTION:Fermented foods are increasing in popularity\, but what are the real reasons you should eat fermented? Come and explore the diverse types of fermented foods and the benefits they have in common. Delicious kimchi and kombucha will be available to sample. Bring your own cultures and we will have a culture swap. Come and be prepared for the Austin Fermentation Festival on Sunday! \nAll FREE classes held every Saturday at noon (South Austin location): \n4201 S. Congress Ave. Ste. 310\n512.444.2100\nwww.bihydro.com \n 
URL:https://www.bihydro.com/event/kombucha-kimchi-fermented-food-benefits-jason-avent/
LOCATION:South Austin location\, 4201 S. Congress Ave. Ste. 310\, Austin\, 78745
CATEGORIES:Classes
ATTACH;FMTTYPE=image/jpeg:https://www.bihydro.com/wp-content/uploads/2016/09/fermented-foods.jpg
END:VEVENT
BEGIN:VEVENT
DTSTART;TZID=UTC:20160924T120000
DTEND;TZID=UTC:20160924T130000
DTSTAMP:20260424T022512
CREATED:20160921T012817Z
LAST-MODIFIED:20160921T012817Z
UID:2762-1474718400-1474722000@www.bihydro.com
SUMMARY:Probiotics\, Prebiotics and Antibiotics: Exploring your Innerverse with Jason Avent!
DESCRIPTION:The microbiome\, probiotics and prebiotics that keep you healthy have gained a great deal of attention recently. Wading through the recommendations from fermentation to capsules to find a coherent strategy for your gut health can be hit and miss. Come learn how the things we consume affect our smallest livestock and how they influence us. \nAll FREE classes held every Saturday at noon (South Austin location): \n4201 S. Congress Ave. Ste. 310\nAustin\, TX 78745\n512.444.2100\nwww.bihydro.com
URL:https://www.bihydro.com/event/probiotics-prebiotics-antibiotics-exploring-innerverse-jason-avent/
LOCATION:South Austin location\, 4201 S. Congress Ave. Ste. 310\, Austin\, 78745
CATEGORIES:Classes
ATTACH;FMTTYPE=image/jpeg:https://www.bihydro.com/wp-content/uploads/2016/09/bacteria-006.jpg
END:VEVENT
END:VCALENDAR