BEGIN:VCALENDAR
VERSION:2.0
PRODID:-//Brite Ideas Aquaponics, Hydroponics &amp; Organics - ECPv6.15.11//NONSGML v1.0//EN
CALSCALE:GREGORIAN
METHOD:PUBLISH
X-WR-CALNAME:Brite Ideas Aquaponics, Hydroponics &amp; Organics
X-ORIGINAL-URL:https://www.bihydro.com
X-WR-CALDESC:Events for Brite Ideas Aquaponics, Hydroponics &amp; Organics
REFRESH-INTERVAL;VALUE=DURATION:PT1H
X-Robots-Tag:noindex
X-PUBLISHED-TTL:PT1H
BEGIN:VTIMEZONE
TZID:UTC
BEGIN:STANDARD
TZOFFSETFROM:+0000
TZOFFSETTO:+0000
TZNAME:UTC
DTSTART:20140101T000000
END:STANDARD
END:VTIMEZONE
BEGIN:VTIMEZONE
TZID:America/Chicago
BEGIN:DAYLIGHT
TZOFFSETFROM:-0600
TZOFFSETTO:-0500
TZNAME:CDT
DTSTART:20140309T080000
END:DAYLIGHT
BEGIN:STANDARD
TZOFFSETFROM:-0500
TZOFFSETTO:-0600
TZNAME:CST
DTSTART:20141102T070000
END:STANDARD
BEGIN:DAYLIGHT
TZOFFSETFROM:-0600
TZOFFSETTO:-0500
TZNAME:CDT
DTSTART:20150308T080000
END:DAYLIGHT
BEGIN:STANDARD
TZOFFSETFROM:-0500
TZOFFSETTO:-0600
TZNAME:CST
DTSTART:20151101T070000
END:STANDARD
BEGIN:DAYLIGHT
TZOFFSETFROM:-0600
TZOFFSETTO:-0500
TZNAME:CDT
DTSTART:20160313T080000
END:DAYLIGHT
BEGIN:STANDARD
TZOFFSETFROM:-0500
TZOFFSETTO:-0600
TZNAME:CST
DTSTART:20161106T070000
END:STANDARD
END:VTIMEZONE
BEGIN:VEVENT
DTSTART;TZID=UTC:20160220T120000
DTEND;TZID=UTC:20160220T130000
DTSTAMP:20260424T125348
CREATED:20160217T095640Z
LAST-MODIFIED:20160217T095832Z
UID:2675-1455969600-1455973200@www.bihydro.com
SUMMARY:HOME-GROWN SPIRULINA: The Earth's Superfood with Rhykka Connelly
DESCRIPTION:Scientists now say that all land plants arose eons ago as marine algae came ashore. Today\, algae are still considered to be the most important organisms on Earth. Not only do they convert about 1/3 of the planet’s carbon dioxide into oxygen\, they are the Earth’s primary source of bio-available nutrition\, synthesizing and providing essential nutrients to consumers up the food chain. That abundant Omega-3 you find in fish? Fish get it from eating algae. Algae also make substances that ward off common bacteria and viruses\, keeping fish healthy. There’s a lot of buzz around this superfood\, but not all algae are created equal. Rhykka will tell you which strains are considered superfoods\, which strains can be used as an organic fertilizer\, and which ones you don’t want to mess with. She’ll show you how easy it is to set-up your own Spirulina culture in your kitchen window or with a grow light\, when and how to harvest it\, and she’ll share some recipes to make your own delicious super snacks. 
URL:https://www.bihydro.com/event/home-grown-spirulina-the-earths-superfood-with-rhykka-connelly/
LOCATION:South Austin location\, 4201 S. Congress Ave. Ste. 310\, Austin\, 78745
CATEGORIES:Classes
ATTACH;FMTTYPE=image/jpeg:https://www.bihydro.com/wp-content/uploads/2016/02/Spirulina-Super-Guacamole.jpg
ORGANIZER;CN="Brite Ideas":MAILTO:Troy@bihydro.com
END:VEVENT
BEGIN:VEVENT
DTSTART;TZID=UTC:20160213T120000
DTEND;TZID=UTC:20160213T130000
DTSTAMP:20260424T125348
CREATED:20160210T011059Z
LAST-MODIFIED:20160210T011059Z
UID:2672-1455364800-1455368400@www.bihydro.com
SUMMARY:THE NOURISHING GARDEN with Jason Avent (South Austin location)
DESCRIPTION:It seems easy to talk about fruits and vegetables as one amorphous category\, but the reality is that some gardens promote good health better than others. Learn how to feed your garden better\, select better crops and prepare foods for optimum nutrition. These steps also lead to better flavors and textures that make gardening more rewarding.
URL:https://www.bihydro.com/event/the-nourishing-garden-with-jason-avent-south-austin-location/
LOCATION:South Austin location\, 4201 S. Congress Ave. Ste. 310\, Austin\, 78745
CATEGORIES:Classes
ATTACH;FMTTYPE=image/png:https://www.bihydro.com/wp-content/uploads/2016/02/PepperWNutrition.png
END:VEVENT
BEGIN:VEVENT
DTSTART;TZID=UTC:20160206T120000
DTEND;TZID=UTC:20160206T130000
DTSTAMP:20260424T125348
CREATED:20160203T031144Z
LAST-MODIFIED:20160203T031144Z
UID:2668-1454760000-1454763600@www.bihydro.com
SUMMARY:Hands-on Aquaponics with Jason Avent (South Austin location)
DESCRIPTION:An aquaponics system can be built using a range of materials with different costs and mobility. We will discuss the relative advantages of different materials and methods. The plumbing of a grow bed will be installed during class for a visceral learning experience.
URL:https://www.bihydro.com/event/hands-on-aquaponics-with-jason-avent-south-austin-location/
LOCATION:South Austin location\, 4201 S. Congress Ave. Ste. 310\, Austin\, 78745
CATEGORIES:Classes
ATTACH;FMTTYPE=image/jpeg:https://www.bihydro.com/wp-content/uploads/2016/02/raised-bed-components.jpg
END:VEVENT
BEGIN:VEVENT
DTSTART;TZID=UTC:20160130T120000
DTEND;TZID=UTC:20160130T130000
DTSTAMP:20260424T125348
CREATED:20160126T230953Z
LAST-MODIFIED:20160126T231113Z
UID:2664-1454155200-1454158800@www.bihydro.com
SUMMARY:AQUAPONICS AT THE HOMESTEAD: Off the Grid and On the Cheap with Jason Avent (South Austin location)
DESCRIPTION:Doing as much as you can with few resources can be a challenge. Self-sufficiency can come with high upfront costs\, even though it is more stable and cheaper to operate in the long run. Learn how to economize on energy and equipment using your ingenuity and take advantage of natural systems.
URL:https://www.bihydro.com/event/aquaponics-at-the-homestead-off-the-grid-and-on-the-cheap-with-jason-avent-south-austin-location/
LOCATION:South Austin location\, 4201 S. Congress Ave. Ste. 310\, Austin\, 78745
CATEGORIES:Classes
ATTACH;FMTTYPE=image/jpeg:https://www.bihydro.com/wp-content/uploads/2016/01/Solar-panels-irrigate-the-greenhouse.jpg
END:VEVENT
BEGIN:VEVENT
DTSTART;TZID=UTC:20160123T120000
DTEND;TZID=UTC:20160123T130000
DTSTAMP:20260424T125348
CREATED:20160121T233018Z
LAST-MODIFIED:20160121T233018Z
UID:2661-1453550400-1453554000@www.bihydro.com
SUMMARY:BASICS OF AQUAPONICS with Jason Avent
DESCRIPTION:Growing plants simultaneously with fish seems like a complex task\, but it can actually make a simpler\, more robust system. Learn the basics and make your system thrive.
URL:https://www.bihydro.com/event/basics-of-aquaponics-with-jason-avent/
LOCATION:South Austin location\, 4201 S. Congress Ave. Ste. 310\, Austin\, 78745
CATEGORIES:Classes
ATTACH;FMTTYPE=image/jpeg:https://www.bihydro.com/wp-content/uploads/2016/01/fishlettuce.jpg
END:VEVENT
BEGIN:VEVENT
DTSTART;TZID=UTC:20160120T193000
DTEND;TZID=UTC:20160120T203000
DTSTAMP:20260424T125348
CREATED:20160120T073714Z
LAST-MODIFIED:20160120T073714Z
UID:2660-1453318200-1453321800@www.bihydro.com
SUMMARY:BASICS OF CULTIVATION with Jason Avent
DESCRIPTION:Some people get taught how to garden\, others have to seek the knowledge out and often feel lost. We are taking all of the systems and describing how they work so everyone can grow the best plants possible.
URL:https://www.bihydro.com/event/basics-of-cultivation-with-jason-avent/
LOCATION:South Austin location\, 4201 S. Congress Ave. Ste. 310\, Austin\, 78745
CATEGORIES:Classes
END:VEVENT
BEGIN:VEVENT
DTSTART;TZID=UTC:20160116T120000
DTEND;TZID=UTC:20160116T130000
DTSTAMP:20260424T125348
CREATED:20160113T231835Z
LAST-MODIFIED:20160113T231849Z
UID:2652-1452945600-1452949200@www.bihydro.com
SUMMARY:Aquaponics: If Plants Could Build Cities with Jason Avent (South Austin location)
DESCRIPTION:Understanding the things that affect a plant’s quality and productivity allows us to engineer optimum environments. Learn a plant’s perspective of the world and your thumb will always be green.
URL:https://www.bihydro.com/event/aquaponics-if-plants-could-build-cities-with-jason-avent-south-austin-location/
LOCATION:South Austin location\, 4201 S. Congress Ave. Ste. 310\, Austin\, 78745
CATEGORIES:Classes
ATTACH;FMTTYPE=image/jpeg:https://www.bihydro.com/wp-content/uploads/2016/01/aquaponics.jpg
END:VEVENT
BEGIN:VEVENT
DTSTART;TZID=UTC:20160109T120000
DTEND;TZID=UTC:20160109T130000
DTSTAMP:20260424T125348
CREATED:20160106T025339Z
LAST-MODIFIED:20160106T025339Z
UID:2647-1452340800-1452344400@www.bihydro.com
SUMMARY:AQUAPONICS RHYTHMS with Jason Avent
DESCRIPTION:Look at aquaponics as a series of cycles that repeat on a daily\, seasonal or yearly basis. This will help you understand what the full life cycle of each component in an aquaponics system does and how these pieces interact in a symphony making the system self-sufficient and simple to maintain.
URL:https://www.bihydro.com/event/aquaponics-rhythms-with-jason-avent/
LOCATION:South Austin location\, 4201 S. Congress Ave. Ste. 310\, Austin\, 78745
CATEGORIES:Classes
ATTACH;FMTTYPE=image/png:https://www.bihydro.com/wp-content/uploads/2016/01/sustainability-07-04199-g001.png
END:VEVENT
BEGIN:VEVENT
DTSTART;TZID=UTC:20160102T120000
DTEND;TZID=UTC:20160102T130000
DTSTAMP:20260424T125348
CREATED:20151230T022258Z
LAST-MODIFIED:20151230T022258Z
UID:2641-1451736000-1451739600@www.bihydro.com
SUMMARY:New Year’s Revolution (South Austin location)
DESCRIPTION:Resolving to do better in the New Year isn’t enough. Understanding the causes of healthy lifestyle failures can allow mastery of the usual pitfalls. We will discuss healthy lifestyle changes\, fermentation of jun kombucha and gardening that is targeted for optimum health benefits.
URL:https://www.bihydro.com/event/new-years-revolution-south-austin-location/
LOCATION:South Austin location\, 4201 S. Congress Ave. Ste. 310\, Austin\, 78745
CATEGORIES:Classes
ATTACH;FMTTYPE=image/jpeg:https://www.bihydro.com/wp-content/uploads/2015/12/fat-to-skinny-shadows-1024x641.jpg
END:VEVENT
BEGIN:VEVENT
DTSTART;TZID=UTC:20151219T120000
DTEND;TZID=UTC:20151219T130000
DTSTAMP:20260424T125348
CREATED:20151216T015621Z
LAST-MODIFIED:20151216T015621Z
UID:2634-1450526400-1450530000@www.bihydro.com
SUMMARY:Kombucha Brewing and SCOBY Exchange with Jason Avent (South Austin location)
DESCRIPTION:Kombucha is a tea-based drink that has many health benefits. We will have a live demonstration of brewing and will discuss brewing techniques\, flavoring\, carbonation and safety. Bring your questions and bring a SCOBY if you have extra. Kombucha will be available to taste from local commercial operations as well as some that is freshly brewed. We will make a meta-brew using multiple sources to generate the most biologically diverse kombucha.
URL:https://www.bihydro.com/event/kombucha-brewing-and-scoby-exchange-with-jason-avent-south-austin-location/
LOCATION:South Austin location\, 4201 S. Congress Ave. Ste. 310\, Austin\, 78745
CATEGORIES:Classes
ATTACH;FMTTYPE=image/jpeg:https://www.bihydro.com/wp-content/uploads/2015/12/Kombucha.jpg
END:VEVENT
BEGIN:VEVENT
DTSTART;TZID=UTC:20151212T120000
DTEND;TZID=UTC:20151212T130000
DTSTAMP:20260424T125348
CREATED:20151210T005925Z
LAST-MODIFIED:20151210T005925Z
UID:2629-1449921600-1449925200@www.bihydro.com
SUMMARY:Seedlings and Microgreens in Aquaponics with Jason Avent
DESCRIPTION:An aquaponics system can be used to make the most prolific and profitable crops- seedlings and microgreens. Learn the techniques that make your system produce reliable crops and catalyze agriculture outside the aquaponics system.
URL:https://www.bihydro.com/event/seedlings-and-microgreens-in-aquaponics-with-jason-avent/
LOCATION:South Austin location\, 4201 S. Congress Ave. Ste. 310\, Austin\, 78745
CATEGORIES:Classes
ATTACH;FMTTYPE=image/png:https://www.bihydro.com/wp-content/uploads/2015/12/RaftGreens.png
END:VEVENT
BEGIN:VEVENT
DTSTART;TZID=UTC:20151205T120000
DTEND;TZID=UTC:20151205T130000
DTSTAMP:20260424T125348
CREATED:20151202T211854Z
LAST-MODIFIED:20151202T211854Z
UID:2624-1449316800-1449320400@www.bihydro.com
SUMMARY:3D Printing in Biotechnology with Machiavelli Davis
DESCRIPTION:Meet for a class on 3D printing. I will answer any and all questions with live 3D printers. \nKits and printers available for purchase. Taught by: Machiavelli Davis who is a 3D printing consultant\, teacher\, and technician.
URL:https://www.bihydro.com/event/3d-printing-in-biotechnology-with-machiavelli-davis/
LOCATION:Brite Ideas Aquaponics\, Hydroponics & Organics\, 4201 S. Congress Ave. Ste. 310\, Austin\, 78745
CATEGORIES:Classes
ATTACH;FMTTYPE=image/png:https://www.bihydro.com/wp-content/uploads/2015/12/jason3d.png
END:VEVENT
BEGIN:VEVENT
DTSTART;TZID=UTC:20151121T120000
DTEND;TZID=UTC:20151121T133000
DTSTAMP:20260424T125348
CREATED:20151118T012438Z
LAST-MODIFIED:20151118T012438Z
UID:2609-1448107200-1448112600@www.bihydro.com
SUMMARY:Rain Water Collection & Water Gardens
DESCRIPTION:Learn why rainwater is an increasingly valuable resource that cannot be replicated with tap water. We will demonstrate retaining water in attractive\, low maintenance gardens.
URL:https://www.bihydro.com/event/rain-water-collection-water-gardens/
LOCATION:South Austin location\, 4201 S. Congress Ave. Ste. 310\, Austin\, 78745
CATEGORIES:Classes
ATTACH;FMTTYPE=image/jpeg:https://www.bihydro.com/wp-content/uploads/2015/11/Lotus.jpg
END:VEVENT
BEGIN:VEVENT
DTSTART;TZID=UTC:20151114T120000
DTEND;TZID=UTC:20151114T133000
DTSTAMP:20260424T125348
CREATED:20151111T035538Z
LAST-MODIFIED:20151111T035538Z
UID:2605-1447502400-1447507800@www.bihydro.com
SUMMARY:Electromagnetic & Magnetic Effects on Plants\, People and Fish
DESCRIPTION:Learn how to take advantage of electrical and electromagnetic effects and shield yourself from more problematic forms of radiation and electromagnetic fields.
URL:https://www.bihydro.com/event/electromagnetic-magnetic-effects-on-plants-people-and-fish/
LOCATION:South Austin location\, 4201 S. Congress Ave. Ste. 310\, Austin\, 78745
CATEGORIES:Classes
END:VEVENT
BEGIN:VEVENT
DTSTART;TZID=UTC:20151107T120000
DTEND;TZID=UTC:20151107T133000
DTSTAMP:20260424T125348
CREATED:20151104T042950Z
LAST-MODIFIED:20151104T042950Z
UID:2598-1446897600-1446903000@www.bihydro.com
SUMMARY:Winterizing Aquaponics
DESCRIPTION:Aquaponics systems can be highly productive throughout winter. There are many ways to prepare and aquaponics systems for the winter as well as innovative ways to heat the system.
URL:https://www.bihydro.com/event/winterizing-aquaponics/
LOCATION:South Austin location\, 4201 S. Congress Ave. Ste. 310\, Austin\, 78745
CATEGORIES:Classes
ATTACH;FMTTYPE=image/jpeg:https://www.bihydro.com/wp-content/uploads/2015/11/frozen-brocc.jpg
END:VEVENT
BEGIN:VEVENT
DTSTART;TZID=UTC:20151031T000000
DTEND;TZID=UTC:20151031T133000
DTSTAMP:20260424T125348
CREATED:20151028T004043Z
LAST-MODIFIED:20151028T004602Z
UID:2594-1446249600-1446298200@www.bihydro.com
SUMMARY:Radioactivity\, Imbalanced Nutrients\, Chemical Toxins and GMOs!
DESCRIPTION:Food seems like a minefield\, but knowledge is power. Growing your own is easier than you think. Learn how a home garden can improve your health and reward your senses.
URL:https://www.bihydro.com/event/radioactivity-imbalanced-nutrients-chemical-toxins-and-gmos/
LOCATION:South Austin location\, 4201 S. Congress Ave. Ste. 310\, Austin\, 78745
CATEGORIES:Classes
END:VEVENT
BEGIN:VEVENT
DTSTART;TZID=UTC:20151024T120000
DTEND;TZID=UTC:20151024T133000
DTSTAMP:20260424T125348
CREATED:20151021T003253Z
LAST-MODIFIED:20151021T003540Z
UID:2590-1445688000-1445693400@www.bihydro.com
SUMMARY:Know the Difference! Organically Grown Produce‏
DESCRIPTION:Whether you have aquaponics\, an in-ground farm or wicking beds a range of information is needed to market this effectively. Whether you grow for profit or just want to talk intelligently about organic versus conventional junk we can help you get the best results. Focus will be on chemically clean nutrient dense organic production. Taught by Jason Avent\, an IOIA-trained Organic Production Expert.
URL:https://www.bihydro.com/event/know-the-difference-organically-grown-produce%e2%80%8f/
LOCATION:South Austin location\, 4201 S. Congress Ave. Ste. 310\, Austin\, 78745
END:VEVENT
BEGIN:VEVENT
DTSTART;TZID=UTC:20151017T120000
DTEND;TZID=UTC:20151017T140000
DTSTAMP:20260424T125348
CREATED:20151014T010422Z
LAST-MODIFIED:20151014T010422Z
UID:2586-1445083200-1445090400@www.bihydro.com
SUMMARY:Organic Pest Control in the Home and Garden with Jason Avent
DESCRIPTION:Learn how to repel\, displace and defeat pests in your environment. Organic methods that pose minimal risk to people\, livestock and pets along with strategies for making these treatments effective long-term.
URL:https://www.bihydro.com/event/organic-pest-control-in-the-home-and-garden-with-jason-avent/
LOCATION:South Austin location\, 4201 S. Congress Ave. Ste. 310\, Austin\, 78745
ATTACH;FMTTYPE=image/jpeg:https://www.bihydro.com/wp-content/uploads/2014/01/third-coast-horticulture-aphid.jpg
ORGANIZER;CN="Brite Ideas":MAILTO:Troy@bihydro.com
END:VEVENT
BEGIN:VEVENT
DTSTART;TZID=UTC:20151015T180000
DTEND;TZID=UTC:20151015T193000
DTSTAMP:20260424T125348
CREATED:20151007T213244Z
LAST-MODIFIED:20151007T213617Z
UID:2582-1444932000-1444937400@www.bihydro.com
SUMMARY:"Fall Garden Perfection"
DESCRIPTION:I will give a summary of soil amendments and the best combinations/placement of these to give the most impact per $. Also how to amend soil as a pest control technique\, with a focus on flavor and easy care for leafy crops of the fall garden.
URL:https://www.bihydro.com/event/fall-garden-perfection/
LOCATION:Brite Ideas North\, 7010 Burnet Rd\, Austin\, 78757
CATEGORIES:Classes
ATTACH;FMTTYPE=image/jpeg:https://www.bihydro.com/wp-content/uploads/2014/01/third-coast-horticulture-start-organic-garden.jpg
END:VEVENT
BEGIN:VEVENT
DTSTART;TZID=UTC:20151010T120000
DTEND;TZID=UTC:20151010T133000
DTSTAMP:20260424T125348
CREATED:20151006T230332Z
LAST-MODIFIED:20151006T230332Z
UID:2581-1444478400-1444483800@www.bihydro.com
SUMMARY:"Mushroom Cultivation\, Identification and Uses"
DESCRIPTION:How to grow mushrooms\, tips for identifying wild mushrooms their uses in the garden/aquaponics will be discussed.
URL:https://www.bihydro.com/event/mushroom-cultivation-identification-and-uses/
LOCATION:Brite Ideas Aquaponics\, Hydroponics & Organics\, 4201 S. Congress Ave. Ste. 310\, Austin\, 78745
CATEGORIES:Classes
ATTACH;FMTTYPE=image/jpeg:https://www.bihydro.com/wp-content/uploads/2014/12/cropped-cropped-IMG_2133.jpg
END:VEVENT
BEGIN:VEVENT
DTSTART;TZID=UTC:20151003T120000
DTEND;TZID=UTC:20151003T140000
DTSTAMP:20260424T125348
CREATED:20150929T223116Z
LAST-MODIFIED:20150929T223116Z
UID:2574-1443873600-1443880800@www.bihydro.com
SUMMARY:MICROBES!
DESCRIPTION:Food fermentation\, compost tea and the soil food web\nWe depend upon microbes for virtually all of our foods and their production. Without microbes\, plants have bland produce and foods are not as vibrant\, nutritious and flavorful. In the soil\, proper microbial balance leads to high productivity and reduced disease. Learn from the microbe’s-eye view about how to enrich your soil\, your plate and your health.
URL:https://www.bihydro.com/event/microbes/
LOCATION:Brite Ideas Aquaponics\, Hydroponics & Organics\, 4201 S. Congress Ave. Ste. 310\, Austin\, 78745
CATEGORIES:Classes
ATTACH;FMTTYPE=image/jpeg:https://www.bihydro.com/wp-content/uploads/2013/12/third-coast-horticulture-trichoderma.jpg
END:VEVENT
BEGIN:VEVENT
DTSTART;TZID=UTC:20150926T120000
DTEND;TZID=UTC:20150926T140000
DTSTAMP:20260424T125348
CREATED:20150925T012011Z
LAST-MODIFIED:20150925T012011Z
UID:2552-1443268800-1443276000@www.bihydro.com
SUMMARY:Future Aquaponics
DESCRIPTION:See what is on the horizon for aquaponics. Vertical growing systems\, automated controllers\, monitoring and lighting to make your plants grow faster\, stronger and more care-free. Our goal is to reduce tasks to planting and harvesting with the minimum of effort in-between.
URL:https://www.bihydro.com/event/future-aquaponics/
LOCATION:Brite Ideas Aquaponics\, Hydroponics & Organics\, 4201 S. Congress Ave. Ste. 310\, Austin\, 78745
ATTACH;FMTTYPE=image/jpeg:https://www.bihydro.com/wp-content/uploads/2015/09/ja-aqua.jpg
END:VEVENT
BEGIN:VEVENT
DTSTART;TZID=UTC:20150919T120000
DTEND;TZID=UTC:20150919T140000
DTSTAMP:20260424T125348
CREATED:20150917T212425Z
LAST-MODIFIED:20150917T212425Z
UID:2534-1442664000-1442671200@www.bihydro.com
SUMMARY:Aquaponics that Live off the Land
DESCRIPTION:Aquaponics can turn the resources you don’t want to eat into the ones that you do want to eat. Converting plants\, animals and fungi into inputs for an aquaponics system can make the inedible edible.
URL:https://www.bihydro.com/event/aquaponics-that-live-off-the-land/
LOCATION:Brite Ideas Aquaponics\, Hydroponics & Organics\, 4201 S. Congress Ave. Ste. 310\, Austin\, 78745
ATTACH;FMTTYPE=image/png:https://www.bihydro.com/wp-content/uploads/2015/09/MaggottoFishDinner-1.png
END:VEVENT
BEGIN:VEVENT
DTSTART;TZID=America/Chicago:20150912T120000
DTEND;TZID=America/Chicago:20150912T140000
DTSTAMP:20260424T125348
CREATED:20150909T224229Z
LAST-MODIFIED:20150910T013635Z
UID:2521-1442059200-1442066400@www.bihydro.com
SUMMARY:Green Manure Crops
DESCRIPTION:How to plant through winter to fertilize and protect your spring garden
URL:https://www.bihydro.com/event/green-manure-crops/
LOCATION:Brite Ideas Aquaponics\, Hydroponics & Organics\, 4201 S. Congress Ave. Ste. 310\, Austin\, 78745
CATEGORIES:Classes
ATTACH;FMTTYPE=image/png:https://www.bihydro.com/wp-content/uploads/2015/09/CoverCrop-1.png
END:VEVENT
BEGIN:VEVENT
DTSTART;TZID=America/Chicago:20150905T120000
DTEND;TZID=America/Chicago:20150905T140000
DTSTAMP:20260424T125348
CREATED:20150902T012247Z
LAST-MODIFIED:20150903T235909Z
UID:2502-1441454400-1441461600@www.bihydro.com
SUMMARY:Resourceful Aquaponics for Off-Grid Production
DESCRIPTION:Off-the-grid systems can provide the energy needed to make everything flow and grow with maximum productivity. Using local resources in remote places and minimal equipment designs presented. Humanitarian projects and homestead sustainability are emphasized.
URL:https://www.bihydro.com/event/resourceful-aquaponics-for-off-grid-production/
LOCATION:Brite Ideas Aquaponics\, Hydroponics & Organics\, 4201 S. Congress Ave. Ste. 310\, Austin\, 78745
CATEGORIES:Classes
ATTACH;FMTTYPE=image/jpeg:https://www.bihydro.com/wp-content/uploads/2015/09/IBC-Tote.jpg
END:VEVENT
BEGIN:VEVENT
DTSTART;TZID=America/Chicago:20150829T120000
DTEND;TZID=America/Chicago:20150829T140000
DTSTAMP:20260424T125348
CREATED:20150825T233527Z
LAST-MODIFIED:20150903T235915Z
UID:2493-1440849600-1440856800@www.bihydro.com
SUMMARY:"Indoor Aquaponics"
DESCRIPTION:Aquaponics systems can be both indoor and outdoor. Use the stable temperatures of your home and enjoy your fish more. Expand the space in existing aquaria by linking tanks\, allowing fish migration.
URL:https://www.bihydro.com/event/indoor-aquaponics/
LOCATION:Brite Ideas Aquaponics\, Hydroponics & Organics\, 4201 S. Congress Ave. Ste. 310\, Austin\, 78745
CATEGORIES:Classes
ATTACH;FMTTYPE=image/jpeg:https://www.bihydro.com/wp-content/uploads/2015/08/display-2.jpg
END:VEVENT
BEGIN:VEVENT
DTSTART;TZID=America/Chicago:20150822T120000
DTEND;TZID=America/Chicago:20150822T140000
DTSTAMP:20260424T125348
CREATED:20150822T013145Z
LAST-MODIFIED:20150903T235922Z
UID:2481-1440244800-1440252000@www.bihydro.com
SUMMARY:Inside / Out with Jason Avent
DESCRIPTION:Growing plants indoors or outside would seem to be two very different choices. We learn about the unique niches and opportunities that come from combining indoor agriculture for small\, delicate stages of plant growth with the resources available in an outdoor garden. Optimizing cuttings\, tissue culture and seedlings will segue into transplantation methods and timing of planting.
URL:https://www.bihydro.com/event/inside-out-with-jason-avent/
LOCATION:South Austin location\, 4201 S. Congress Ave. Ste. 310\, Austin\, 78745
CATEGORIES:Classes
ATTACH;FMTTYPE=image/jpeg:https://www.bihydro.com/wp-content/uploads/2015/02/bright-ideas-Growing-Room.jpg
ORGANIZER;CN="Brite Ideas":MAILTO:Troy@bihydro.com
END:VEVENT
END:VCALENDAR