BEGIN:VCALENDAR
VERSION:2.0
PRODID:-//Brite Ideas Aquaponics, Hydroponics &amp; Organics - ECPv6.15.11//NONSGML v1.0//EN
CALSCALE:GREGORIAN
METHOD:PUBLISH
X-ORIGINAL-URL:https://www.bihydro.com
X-WR-CALDESC:Events for Brite Ideas Aquaponics, Hydroponics &amp; Organics
REFRESH-INTERVAL;VALUE=DURATION:PT1H
X-Robots-Tag:noindex
X-PUBLISHED-TTL:PT1H
BEGIN:VTIMEZONE
TZID:UTC
BEGIN:STANDARD
TZOFFSETFROM:+0000
TZOFFSETTO:+0000
TZNAME:UTC
DTSTART:20160101T000000
END:STANDARD
END:VTIMEZONE
BEGIN:VEVENT
DTSTART;TZID=UTC:20180707T120000
DTEND;TZID=UTC:20180707T133000
DTSTAMP:20260423T154333
CREATED:20180705T224948Z
LAST-MODIFIED:20180705T224948Z
UID:3444-1530964800-1530970200@www.bihydro.com
SUMMARY:AQUAPONICS FROM THE GROUND UP with Jason Avent!
DESCRIPTION:This session will be almost entirely a hands-on demonstration of how to take the starting materials available at Brite Ideas and put them together into a complete aquaponics system. Come and learn how to build it as well as what should and should not go into an aquaponics system. \nAll FREE classes held every Saturday at our South Austin location:\n4201 S. Congress Ave. Ste. 310\n512.444.2100\nwww.bihydro.com
URL:https://www.bihydro.com/event/aquaponics-ground-jason-avent-2/
LOCATION:South Austin location\, 4201 S. Congress Ave. Ste. 310\, Austin\, 78745
CATEGORIES:Classes
ATTACH;FMTTYPE=image/jpeg:https://www.bihydro.com/wp-content/uploads/2018/02/thumbnail_Bulkhead4.jpg
END:VEVENT
BEGIN:VEVENT
DTSTART;TZID=UTC:20180630T120000
DTEND;TZID=UTC:20180630T123000
DTSTAMP:20260423T154333
CREATED:20180628T024454Z
LAST-MODIFIED:20180628T024454Z
UID:3440-1530360000-1530361800@www.bihydro.com
SUMMARY:THE EDIBLE LANDSCAPE with Jason Avent!
DESCRIPTION:We want trees\, lawn and bushes for aesthetics- but what if those things all worked together to make food? Many hardy native plants can augment your yard and your plate.\nAll FREE classes held every Saturday at noon – South Austin location:\n4201 S. Congress Ave. Ste. 310\n512.444.2100\nwww.bihydro.com
URL:https://www.bihydro.com/event/edible-landscape-jason-avent/
LOCATION:South Austin location\, 4201 S. Congress Ave. Ste. 310\, Austin\, 78745
CATEGORIES:Classes
ATTACH;FMTTYPE=image/jpeg:https://www.bihydro.com/wp-content/uploads/2018/06/edible-with-bite.jpg
END:VEVENT
BEGIN:VEVENT
DTSTART;TZID=UTC:20180623T120000
DTEND;TZID=UTC:20180623T133000
DTSTAMP:20260423T154333
CREATED:20180621T013136Z
LAST-MODIFIED:20180621T013136Z
UID:3433-1529755200-1529760600@www.bihydro.com
SUMMARY:WICKING BEDS\, LAYERING & WORMS with Jason Avent!
DESCRIPTION:Passive systems are sometimes the right way to go in areas with limited power. Wicking beds can have fantastic yields\, less maintenance and reduced watering versus in-ground gardening. Learn how the right configuration\, layering and worm care will allow your garden to thrive with little effort. \nAll FREE classes held every Saturday at noon – South Austin location:\n4201 S. Congress Ave. Ste. 310\n512.444.2100\nwww.bihydro.com
URL:https://www.bihydro.com/event/wicking-beds-layering-worms-jason-avent-2/
LOCATION:South Austin location\, 4201 S. Congress Ave. Ste. 310\, Austin\, 78745
CATEGORIES:Classes
ATTACH;FMTTYPE=image/jpeg:https://www.bihydro.com/wp-content/uploads/2017/03/wickingbed.jpg
END:VEVENT
BEGIN:VEVENT
DTSTART;TZID=UTC:20180616T120000
DTEND;TZID=UTC:20180616T133000
DTSTAMP:20260423T154333
CREATED:20180614T235918Z
LAST-MODIFIED:20180614T235918Z
UID:3430-1529150400-1529155800@www.bihydro.com
SUMMARY:SPROUTING & SEEDLINGS - BIG Gardening in small Spaces with Jason Avent!
DESCRIPTION:Sprouting has been an ancient tradition undergoing a renaissance due to recent scientific proof of their health-promoting benefits. Growing sprouts in small spaces can be incredibly nutritious and saves tremendous cost. Use these same techniques to grow seedlings for fall gardens. The time to start is now! \nAll FREE classes held every Saturday at noon (South Austin location):\n4201 S. Congress Ave. Ste. 310\n512.444.2100\nwww.bihydro.com
URL:https://www.bihydro.com/event/sprouting-seedlings-big-gardening-small-spaces-jason-avent-3/
LOCATION:South Austin location\, 4201 S. Congress Ave. Ste. 310\, Austin\, 78745
CATEGORIES:Classes
ATTACH;FMTTYPE=image/jpeg:https://www.bihydro.com/wp-content/uploads/2018/01/SeedSprout.jpg
END:VEVENT
BEGIN:VEVENT
DTSTART;TZID=UTC:20180609T120000
DTEND;TZID=UTC:20180609T133000
DTSTAMP:20260423T154334
CREATED:20180606T212226Z
LAST-MODIFIED:20180606T212226Z
UID:3422-1528545600-1528551000@www.bihydro.com
SUMMARY:Herbal Kombucha and Kombucha Vinegar with Jason Avent!
DESCRIPTION:Kombucha has healing\, probiotic and nutritional properties that make it a medicinal powerhouse. Learn how you can add to this already impressive repertoire by making herbal kombucha with impressive new properties and flavors. \nAll FREE classes held every Saturday at noon – South Austin location:\n4201 S. Congress Ave. Ste. 310\n512.444.2100\nwww.bihydro.com
URL:https://www.bihydro.com/event/herbal-kombucha-kombucha-vinegar-jason-avent-2/
LOCATION:South Austin location\, 4201 S. Congress Ave. Ste. 310\, Austin\, 78745
CATEGORIES:Classes
ATTACH;FMTTYPE=image/jpeg:https://www.bihydro.com/wp-content/uploads/2016/12/thumbnail_herbs-mortarpestle.jpg
END:VEVENT
BEGIN:VEVENT
DTSTART;TZID=UTC:20180602T120000
DTEND;TZID=UTC:20180602T133000
DTSTAMP:20260423T154334
CREATED:20180530T003055Z
LAST-MODIFIED:20180530T003055Z
UID:3419-1527940800-1527946200@www.bihydro.com
SUMMARY:AQUAPONICS QUICK START with Jason Avent!
DESCRIPTION:Traditionally\, aquaponics is a slow process of building up nutrients for plants and filtration for fish. Slow startup\, dead fish  and disappointing yields can be skipped by employing the “Quick Start” method developed at Brite Ideas and tested by our customers. Come learn how to take the frustrations out of aquaponics while achieving stable systems and high yields. \nAll FREE classes held every Saturday at noon – South Austin location: \n4201 S. Congress Ave. Ste. 310\n5124442100\nwww.bihydro.com
URL:https://www.bihydro.com/event/aquaponics-quick-start-jason-avent-4/
LOCATION:South Austin location\, 4201 S. Congress Ave. Ste. 310\, Austin\, 78745
CATEGORIES:Classes
ATTACH;FMTTYPE=image/jpeg:https://www.bihydro.com/wp-content/uploads/2016/05/LushAquaponics.jpg
END:VEVENT
BEGIN:VEVENT
DTSTART;TZID=UTC:20180526T120000
DTEND;TZID=UTC:20180526T133000
DTSTAMP:20260423T154334
CREATED:20180523T010419Z
LAST-MODIFIED:20180523T010419Z
UID:3409-1527336000-1527341400@www.bihydro.com
SUMMARY:Electromagnetic Radiation- Good\, Bad and What to Do About It...with Jason Avent!
DESCRIPTION:There are invisible forces… It seems almost like mysticism\, these energy forms that flow through our environment imperceptibly- or almost imperceptibly. A great deal of science has been done to show what radiation and magnetic fields do. Come learn with us! \nAll FREE classes held every Saturday at noon – South Austin Brite Ideas:\n4201 S. Congress Ave. Ste. 310\n512.444.2100\nwww.bihydro.com
URL:https://www.bihydro.com/event/electromagnetic-radiation-good-bad-jason-avent/
LOCATION:South Austin location\, 4201 S. Congress Ave. Ste. 310\, Austin\, 78745
CATEGORIES:Classes
ATTACH;FMTTYPE=image/jpeg:https://www.bihydro.com/wp-content/uploads/2018/03/inductor3.jpg
END:VEVENT
BEGIN:VEVENT
DTSTART;TZID=UTC:20180519T120000
DTEND;TZID=UTC:20180519T133000
DTSTAMP:20260423T154334
CREATED:20180515T004133Z
LAST-MODIFIED:20180515T004133Z
UID:3405-1526731200-1526736600@www.bihydro.com
SUMMARY:Hot\, Hot Organic Hydroponics with Jason Avent!
DESCRIPTION:Summer may seem more like winter to gardeners in Austin\, but mitigating heat and moving to indoor cultivation can give you high yields. Learn about the strategies that beat the heat! \nAll FREE classes held every Saturday at noon – South Austin location:\n4201 S. Congress Ave. Ste. 310\n512.444.2100\nwww.bihydro.com
URL:https://www.bihydro.com/event/hot-hot-organic-hydroponics-jason-avent/
LOCATION:South Austin location\, 4201 S. Congress Ave. Ste. 310\, Austin\, 78745
CATEGORIES:Classes
ATTACH;FMTTYPE=image/png:https://www.bihydro.com/wp-content/uploads/2018/05/wiltTomato.png
END:VEVENT
BEGIN:VEVENT
DTSTART;TZID=UTC:20180512T120000
DTEND;TZID=UTC:20180512T133000
DTSTAMP:20260423T154334
CREATED:20180509T214154Z
LAST-MODIFIED:20180509T215411Z
UID:3397-1526126400-1526131800@www.bihydro.com
SUMMARY:KOMBUCHA & KIMCHI with Jason Avent!
DESCRIPTION:Fermented foods have gained popularity\, but to get the most from these they need to be alive and freshly made. Learn how to make these delicious and potently healthy foods. \nAll FREE classes held every Saturday at noon – South Austin location:\n4201 S. Congress Ave. Ste. 310\n512.444.2100\nwww.bihydro.com
URL:https://www.bihydro.com/event/kombucha-kimchi-jason-avent-2/
LOCATION:South Austin location\, 4201 S. Congress Ave. Ste. 310\, Austin\, 78745
CATEGORIES:Classes
ATTACH;FMTTYPE=image/jpeg:https://www.bihydro.com/wp-content/uploads/2016/09/fermented-foods.jpg
END:VEVENT
BEGIN:VEVENT
DTSTART;TZID=UTC:20180505T120000
DTEND;TZID=UTC:20180505T133000
DTSTAMP:20260423T154334
CREATED:20180502T003952Z
LAST-MODIFIED:20180502T003952Z
UID:3395-1525521600-1525527000@www.bihydro.com
SUMMARY:AQUAPONICS DEMYSTIFIED with Jason Avent!
DESCRIPTION:Aquaponics systems are nutritious and educational\, but can be intimidating the same time. Learn the basics of what an aquaponics system is\, how it works and how to make it function properly. Hands-on grow bed construction and system design demonstrated in class. \nAll FREE classes held every Saturday at noon – South Austin location:\n4201 S. Congress Ave. Ste. 310\n512.444.2100\nwww.bihydro.com
URL:https://www.bihydro.com/event/aquaponics-demystified-jason-avent/
LOCATION:South Austin location\, 4201 S. Congress Ave. Ste. 310\, Austin\, 78745
CATEGORIES:Classes
ATTACH;FMTTYPE=image/jpeg:https://www.bihydro.com/wp-content/uploads/2016/06/aquaponics-cycle.jpg
END:VEVENT
BEGIN:VEVENT
DTSTART;TZID=UTC:20180428T120000
DTEND;TZID=UTC:20180428T133000
DTSTAMP:20260423T154334
CREATED:20180424T233600Z
LAST-MODIFIED:20180425T201843Z
UID:3384-1524916800-1524922200@www.bihydro.com
SUMMARY:SPROUTING & SEEDLINGS - BIG Gardening in small Spaces with Jason Avent!
DESCRIPTION:Sprouting has been an ancient tradition undergoing a renaissance due to recent scientific proof of their health-promoting benefits. Growing sprouts in small spaces can be incredibly nutritious and saves tremendous cost. Use these same techniques to grow seedlings for fall gardens. The time to start is now! \nAll FREE classes held every Saturday at noon – South Austin location:\n4201 S. Congress Ave. Ste. 310\n512.444.2100\nwww.bihydro.com
URL:https://www.bihydro.com/event/sprouting-seedlings-big-gardening-small-spaces-jason-avent-2/
LOCATION:South Austin location\, 4201 S. Congress Ave. Ste. 310\, Austin\, 78745
CATEGORIES:Classes
ATTACH;FMTTYPE=image/jpeg:https://www.bihydro.com/wp-content/uploads/2018/01/SeedSprout.jpg
END:VEVENT
BEGIN:VEVENT
DTSTART;TZID=UTC:20180421T120000
DTEND;TZID=UTC:20180421T133000
DTSTAMP:20260423T154334
CREATED:20180417T224431Z
LAST-MODIFIED:20180417T224431Z
UID:3366-1524312000-1524317400@www.bihydro.com
SUMMARY:BASIC HYDROPONICS with Jason Avent!
DESCRIPTION:Hydroponics can be boiled down to a few basic concepts and the plants will do quite well. We will discuss the right location\, lighting\, nutrition and crops for optimal hydroponic production. \n\nAll FREE classes held every Saturday at noon (South Austin location):\n4201 S. Congress Ave. Ste. 310\n512.444.2100\nwww.bihydro.com
URL:https://www.bihydro.com/event/basic-hydroponics-jason-avent/
LOCATION:South Austin location\, 4201 S. Congress Ave. Ste. 310\, Austin\, 78745
CATEGORIES:Classes
ATTACH;FMTTYPE=image/png:https://www.bihydro.com/wp-content/uploads/2018/04/pastedImage-4.png
END:VEVENT
BEGIN:VEVENT
DTSTART;TZID=UTC:20180414T120000
DTEND;TZID=UTC:20180414T133000
DTSTAMP:20260423T154334
CREATED:20180411T000550Z
LAST-MODIFIED:20180411T000550Z
UID:3364-1523707200-1523712600@www.bihydro.com
SUMMARY:KOMBUCHA VINEGAR\, INFUSIONS & YOUR HEALTH with Jason Avent!
DESCRIPTION:Kombucha from the market is usually a sugary drink with some sourness\, but it can also be brewed at home into potent vinegar. Vinegar has many of its own health benefits\, but these can be augmented when it is used to extract herbs. See live demonstration of making vinegar this way and extracting fresh herbs with amazing flavors. Free SCOBY starters available! \nJoin us for our FREE class every Saturday at noon – South Austin location:\n4201 S. Congress Ave. Ste. 310\n512.444.2100\nwww.bihydro.com
URL:https://www.bihydro.com/event/kombucha-vinegar-infusions-health-jason-avent/
LOCATION:South Austin location\, 4201 S. Congress Ave. Ste. 310\, Austin\, 78745
CATEGORIES:Classes
ATTACH;FMTTYPE=image/jpeg:https://www.bihydro.com/wp-content/uploads/2016/12/thumbnail_herbs-mortarpestle.jpg
END:VEVENT
BEGIN:VEVENT
DTSTART;TZID=UTC:20180407T120000
DTEND;TZID=UTC:20180407T133000
DTSTAMP:20260423T154334
CREATED:20180403T210517Z
LAST-MODIFIED:20180403T210517Z
UID:3348-1523102400-1523107800@www.bihydro.com
SUMMARY:AQUAPONICS - Off the Grid and On the Cheap with Jason Avent!
DESCRIPTION:Doing as much as you can with few resources can be a challenge. Self-sufficiency can come with high upfront costs\, even though it is more stable and cheaper to operate in the long run. Learn how to economize on energy and equipment by taking advantage of reused materials. \nAll FREE classes held every Saturday at noon (South Austin location):\n4201 S. Congress Ave. Ste. 310\n512.444.2100\nwww.bihydro.com
URL:https://www.bihydro.com/event/aquaponics-off-grid-cheap-jason-avent-2/
LOCATION:South Austin location\, 4201 S. Congress Ave. Ste. 310\, Austin\, 78745
CATEGORIES:Classes
ATTACH;FMTTYPE=image/jpeg:https://www.bihydro.com/wp-content/uploads/2016/06/AquaponicsGreenhouse.jpg
END:VEVENT
BEGIN:VEVENT
DTSTART;TZID=UTC:20180331T120000
DTEND;TZID=UTC:20180331T133000
DTSTAMP:20260423T154334
CREATED:20180328T010846Z
LAST-MODIFIED:20180328T010846Z
UID:3338-1522497600-1522503000@www.bihydro.com
SUMMARY:"HEALING ENERGY" DEMYSTIFIED with Jason Avent!
DESCRIPTION:Some of us can feel energy and know what are the good and bad things in our environments innately. The rest of the people in the world think we’re crazy. Come learn how a “sensitive” brought sense to the mystical and uses science to overcome jargon. \nAll FREE classes held every Saturday at noon (South Austin location):\n4201 S. Congress Ave. Ste. 310\n512.444.2100\nwww.bihydro.com
URL:https://www.bihydro.com/event/healing-energy-demystified-jason-avent/
LOCATION:South Austin location\, 4201 S. Congress Ave. Ste. 310\, Austin\, 78745
CATEGORIES:Classes
ATTACH;FMTTYPE=image/jpeg:https://www.bihydro.com/wp-content/uploads/2018/03/inductor3.jpg
END:VEVENT
BEGIN:VEVENT
DTSTART;TZID=UTC:20180324T120000
DTEND;TZID=UTC:20180324T133000
DTSTAMP:20260423T154334
CREATED:20180321T020457Z
LAST-MODIFIED:20180321T020457Z
UID:3335-1521892800-1521898200@www.bihydro.com
SUMMARY:ORGANIC HYDROPONICS HOW-TO with Jason Avent!
DESCRIPTION:Last week\, we discussed the reasons why an organic hydroponic system is a good idea and is good for the environment. This class will focus on the parts of the system\, how they go together and functionality. Come learn how it all works! \nAll FREE classes held every Saturday at noon (South Austin location):\n4201 S. Congress Ave. Ste. 310\n512.444.2100\nwww.bihydro.com
URL:https://www.bihydro.com/event/organic-hydroponics-jason-avent-4/
LOCATION:South Austin location\, 4201 S. Congress Ave. Ste. 310\, Austin\, 78745
CATEGORIES:Classes
ATTACH;FMTTYPE=image/png:https://www.bihydro.com/wp-content/uploads/2018/03/HydroDiagram.png
END:VEVENT
BEGIN:VEVENT
DTSTART;TZID=UTC:20180317T120000
DTEND;TZID=UTC:20180317T133000
DTSTAMP:20260423T154334
CREATED:20180315T210342Z
LAST-MODIFIED:20180315T210342Z
UID:3326-1521288000-1521293400@www.bihydro.com
SUMMARY:ORGANIC HYDROPONICS with Jason Avent!
DESCRIPTION:Come learn what organic hydroponics can do for the environment and the future of food production.\n\nAll FREE classes held every Saturday at noon – South Austin location:\n4201 S. Congress Ave. Ste. 310\n512.444.2100\nwww.bihydro.com
URL:https://www.bihydro.com/event/organic-hydroponics-jason-avent-3/
LOCATION:South Austin location\, 4201 S. Congress Ave. Ste. 310\, Austin\, 78745
CATEGORIES:Classes
ATTACH;FMTTYPE=image/png:https://www.bihydro.com/wp-content/uploads/2017/11/pastedImage-2.png
END:VEVENT
BEGIN:VEVENT
DTSTART;TZID=UTC:20180310T120000
DTEND;TZID=UTC:20180310T133000
DTSTAMP:20260423T154334
CREATED:20180307T003754Z
LAST-MODIFIED:20180307T003754Z
UID:3322-1520683200-1520688600@www.bihydro.com
SUMMARY:KOMBUCHA & KIMCHI with Miles Delleney!
DESCRIPTION:Fermented foods have gained popularity\, but to get the most from these they need to be alive and freshly made. Learn how to make these delicious and potently healthy foods. \nAll FREE classes held every Saturday at noon – South Austin Brite Ideas\n4201 S. Congress Ave. Ste. 310\n512.444.2100\nwww.bihydro.com
URL:https://www.bihydro.com/event/kombucha-kimchi-miles-delleney/
LOCATION:South Austin location\, 4201 S. Congress Ave. Ste. 310\, Austin\, 78745
CATEGORIES:Classes
ATTACH;FMTTYPE=image/jpeg:https://www.bihydro.com/wp-content/uploads/2016/09/fermented-foods.jpg
END:VEVENT
BEGIN:VEVENT
DTSTART;TZID=UTC:20180303T120000
DTEND;TZID=UTC:20180303T133000
DTSTAMP:20260423T154334
CREATED:20180228T223755Z
LAST-MODIFIED:20180228T223755Z
UID:3319-1520078400-1520083800@www.bihydro.com
SUMMARY:AQUAPONICS FROM THE GROUND UP with Jason Avent!
DESCRIPTION:This session will be almost entirely a hands-on demonstration of how to take the starting materials available at Brite Ideas and put them together into a complete aquaponics system. Come and learn how to build it as well as what should and should not go into an aquaponics system. \nAll FREE classes held every Saturday at noon – South Austin Brite Ideas\n4201 S. Congress Ave. Ste. 310\n512.444.2100\nwww.bihydro.com
URL:https://www.bihydro.com/event/aquaponics-ground-jason-avent/
LOCATION:South Austin location\, 4201 S. Congress Ave. Ste. 310\, Austin\, 78745
CATEGORIES:Classes
ATTACH;FMTTYPE=image/jpeg:https://www.bihydro.com/wp-content/uploads/2018/02/thumbnail_Bulkhead4.jpg
END:VEVENT
BEGIN:VEVENT
DTSTART;TZID=UTC:20180224T120000
DTEND;TZID=UTC:20180224T133000
DTSTAMP:20260423T154334
CREATED:20180221T012904Z
LAST-MODIFIED:20180221T012904Z
UID:3308-1519473600-1519479000@www.bihydro.com
SUMMARY:ORGANIC HYDROPONICS with Jason Avent!
DESCRIPTION:A certified organic system can use hydroponic growing methods thanks to a new ruling by the national organic standards board. Come learn how to produce healthy\, wholesome crops without the need for dirt and all of the problems it brings. Discover what organic hydroponics can do for our food supply and our environment. \nAll FREE classes held every Saturday at noon – South Austin location: \n4201 S. Congress Ave. Ste. 310\n512.444.2100\nwww.bihydro.com
URL:https://www.bihydro.com/event/organic-hydroponics-jason-avent-2/
LOCATION:South Austin location\, 4201 S. Congress Ave. Ste. 310\, Austin\, 78745
CATEGORIES:Classes
ATTACH;FMTTYPE=image/png:https://www.bihydro.com/wp-content/uploads/2017/11/pastedImage-2.png
END:VEVENT
BEGIN:VEVENT
DTSTART;TZID=UTC:20180217T120000
DTEND;TZID=UTC:20180217T133000
DTSTAMP:20260423T154334
CREATED:20180214T024849Z
LAST-MODIFIED:20180214T025139Z
UID:3298-1518868800-1518874200@www.bihydro.com
SUMMARY:MUSHROOMS FOR YOUR TASTEBUDS & YOUR HEALTH with Jason Avent!
DESCRIPTION:“It’s good for you; eat it…” You might as well say\, “It tastes bad\, but choke it down anyway.” Fortunately\, there are foods that are good tasting and healthy. Mushrooms top every list\, but biases and confusion abound about the “right” way to cook or not cook them. Clear the clutter of confusion and learn how to appreciate this fruit of fungi. Live cooking demonstration! \n  \nAll FREE classes held every Saturday at noon – South Austin Brite Ideas \n4201 S. Congress Ave. Ste. 310\n512.444.2100\nwww.bihydro.com
URL:https://www.bihydro.com/event/mushrooms-tastebuds-health-jason-avent/
LOCATION:South Austin location\, 4201 S. Congress Ave. Ste. 310\, Austin\, 78745
CATEGORIES:Classes
ATTACH;FMTTYPE=image/png:https://www.bihydro.com/wp-content/uploads/2018/02/pastedImage-3.png
END:VEVENT
BEGIN:VEVENT
DTSTART;TZID=UTC:20180210T120000
DTEND;TZID=UTC:20180210T133000
DTSTAMP:20260423T154334
CREATED:20180206T235430Z
LAST-MODIFIED:20180206T235430Z
UID:3296-1518264000-1518269400@www.bihydro.com
SUMMARY:HERBAL KOMBUCHA & KOMBUCHA VINEGAR with Jason Avent!
DESCRIPTION:Kombucha has healing\, probiotic and nutritional properties that make it a medicinal powerhouse. Learn how you can add to this already impressive repertoire by making herbal kombucha with impressive new properties and flavors. \nAll FREE classes held every Saturday at noon (South Austin location):\n4201 S. Congress Ave. Ste. 310\n512.444.2100\nwww.bihydro.com
URL:https://www.bihydro.com/event/herbal-kombucha-kombucha-vinegar-jason-avent/
LOCATION:South Austin location\, 4201 S. Congress Ave. Ste. 310\, Austin\, 78745
CATEGORIES:Classes
ATTACH;FMTTYPE=image/jpeg:https://www.bihydro.com/wp-content/uploads/2016/12/thumbnail_herbs-mortarpestle.jpg
END:VEVENT
BEGIN:VEVENT
DTSTART;TZID=UTC:20180203T120000
DTEND;TZID=UTC:20180203T133000
DTSTAMP:20260423T154334
CREATED:20180131T021457Z
LAST-MODIFIED:20180131T021457Z
UID:3293-1517659200-1517664600@www.bihydro.com
SUMMARY:AQUAPONICS-Living Lightly on Wildlife & Pets with Jason Avent!
DESCRIPTION:Agriculture has always been a struggle of us against nature\, but it doesn’t have to be that way. Learn how to save yourself the time\, trouble and struggle of fighting nature by using barrier methods and non-toxic repellents. Let your garden be a place of peace for you\, your pets and wildlife. \nAll FREE classes held every Saturday at noon – South Austin location:\n4201 S. Congress Ave. Ste. 310\n512.444.2100\nwww.bihydro.com
URL:https://www.bihydro.com/event/aquaponics-living-lightly-wildlife-pets-jason-avent/
LOCATION:South Austin location\, 4201 S. Congress Ave. Ste. 310\, Austin\, 78745
CATEGORIES:Classes
ATTACH;FMTTYPE=image/jpeg:https://www.bihydro.com/wp-content/uploads/2018/01/digDog.jpg
END:VEVENT
BEGIN:VEVENT
DTSTART;TZID=UTC:20180127T120000
DTEND;TZID=UTC:20180127T133000
DTSTAMP:20260423T154334
CREATED:20180124T232758Z
LAST-MODIFIED:20180124T232758Z
UID:3284-1517054400-1517059800@www.bihydro.com
SUMMARY:SPROUTING & SEEDLINGS - Big Gardening in Small Spaces with Jason Avent!
DESCRIPTION:Sprouting has been an ancient tradition undergoing a renaissance due to recent scientific proof of their health-promoting benefits. Growing sprouts in small spaces can be incredibly nutritious and saves tremendous cost. Use these same techniques to grow seedlings for spring gardens. The time to start is now! \nAll FREE classes held every Saturday at noon – South Austin Brite Ideas\n4201 S. Congress Ave. Ste. 310\n512.444.2100\nwww.bihydro.com
URL:https://www.bihydro.com/event/sprouting-seedlings-big-gardening-small-spaces-jason-avent/
LOCATION:South Austin location\, 4201 S. Congress Ave. Ste. 310\, Austin\, 78745
CATEGORIES:Classes
ATTACH;FMTTYPE=image/jpeg:https://www.bihydro.com/wp-content/uploads/2018/01/SeedSprout.jpg
END:VEVENT
BEGIN:VEVENT
DTSTART;TZID=UTC:20180120T120000
DTEND;TZID=UTC:20180120T133000
DTSTAMP:20260423T154334
CREATED:20180119T005216Z
LAST-MODIFIED:20180119T005216Z
UID:3281-1516449600-1516455000@www.bihydro.com
SUMMARY:RADIATION\, SHIELDING\, EARTHING\, & MAGNETIC FIELDS - Effects on Water\, People\, Plants and Fish with Jason Avent!
DESCRIPTION:Radiation\, magnetic fields and electron flow are mysterious constitute much of what is known as “magic”. Come understand how these invisible forces work. Discover rational approaches to mitigating the hazards and understand the upsides of these powerful systems.\n\nAll FREE classes held every Saturday at noon (South Austin location):\n4201 S. Congress Ave. Ste. 310\n512.444.2100\nwww.bihydro.com
URL:https://www.bihydro.com/event/radiation-shielding-earthing-magnetic-fields-effects-water-people-plants-fish-jason-avent/
LOCATION:South Austin location\, 4201 S. Congress Ave. Ste. 310\, Austin\, 78745
CATEGORIES:Classes
ATTACH;FMTTYPE=image/jpeg:https://www.bihydro.com/wp-content/uploads/2016/08/filingsMagnetism2.jpg
END:VEVENT
BEGIN:VEVENT
DTSTART;TZID=UTC:20180113T120000
DTEND;TZID=UTC:20180113T133000
DTSTAMP:20260423T154334
CREATED:20180110T044029Z
LAST-MODIFIED:20180110T044029Z
UID:3271-1515844800-1515850200@www.bihydro.com
SUMMARY:FERMENTABULOUS! with Jason Avent
DESCRIPTION:Fermentation is exploding; what was old is new again! Unlike revived fashions from decades ago\, there is real wisdom to doing this “new thing”. Kimchi\, Kombucha and so much more awaits your mind and your palate at Brite Ideas. \nAll FREE classes held every Saturday at noon (South Austin location):\n4201 S. Congress Ave. Ste. 310\n512.444.2100\nwww.bihydro.com
URL:https://www.bihydro.com/event/fermentabulous-jason-avent/
LOCATION:South Austin location\, 4201 S. Congress Ave. Ste. 310\, Austin\, 78745
CATEGORIES:Classes
ATTACH;FMTTYPE=image/jpeg:https://www.bihydro.com/wp-content/uploads/2018/01/FermentedFoods.jpg
END:VEVENT
BEGIN:VEVENT
DTSTART;TZID=UTC:20180106T120000
DTEND;TZID=UTC:20180106T133000
DTSTAMP:20260423T154334
CREATED:20180104T040724Z
LAST-MODIFIED:20180104T040724Z
UID:3260-1515240000-1515245400@www.bihydro.com
SUMMARY:NUTRIENT CYCLES IN AQUAPONICS & SOIL with Jason Avent!
DESCRIPTION:The role of nutrition is obvious in people\, but in plants\, the stunting of growth is not so easy to identify. It is hard to know how more your garden might yield with proper nutrition. Yield should not be measured in pounds\, but rather by nutritional value of food. Start nourishing you soil now while it is cold and your garden will be up to speed in no time. \n  \nAll FREE classes held every Saturday at noon (South Austin location):\n4201 S. Congress Ave. Ste. 310\n512.444.2100\nwww.bihydro.com
URL:https://www.bihydro.com/event/nutrient-cycles-aquaponics-soil-jason-avent/
LOCATION:South Austin location\, 4201 S. Congress Ave. Ste. 310\, Austin\, 78745
ATTACH;FMTTYPE=image/jpeg:https://www.bihydro.com/wp-content/uploads/2018/01/elements.jpg
END:VEVENT
BEGIN:VEVENT
DTSTART;TZID=UTC:20171230T120000
DTEND;TZID=UTC:20171230T133000
DTSTAMP:20260423T154334
CREATED:20171228T010432Z
LAST-MODIFIED:20171228T010432Z
UID:3251-1514635200-1514640600@www.bihydro.com
SUMMARY:New Year's Revolution with Jason Avent!
DESCRIPTION:“Diets” are doomed to fail because food can be polluted with obesogens that defeat your weight loss that go beyond calorie counts. The food you eat today has changed dramatically even though it may look the same. Learn how to make better choices and you CAN accomplish your goals in 2018. \nAll FREE classes held every Saturday at our South Austin location: \n4201 S. Congress Ave. Ste. 310\n512.444.2100\nwww.bihydro.com
URL:https://www.bihydro.com/event/new-years-revolution-jason-avent/
LOCATION:South Austin location\, 4201 S. Congress Ave. Ste. 310\, Austin\, 78745
CATEGORIES:Classes
ATTACH;FMTTYPE=image/jpeg:https://www.bihydro.com/wp-content/uploads/2017/12/foodCrimeScene.jpg
END:VEVENT
BEGIN:VEVENT
DTSTART;TZID=UTC:20171216T120000
DTEND;TZID=UTC:20171216T133000
DTSTAMP:20260423T154334
CREATED:20171213T020949Z
LAST-MODIFIED:20171213T020949Z
UID:3238-1513425600-1513431000@www.bihydro.com
SUMMARY:Mushrooms and Mushroom Composting For your Garden with Jason Avent!
DESCRIPTION:Mushrooms are a delicious and nutritious food. Learn how easy these are to grow and how their “leftovers” of mushroom compost are a valuable addition to your garden and landscape. Make your own mushrooms and compost out of the wastes you already have and unlock the value of your organic resources. Live in-class inoculation! \nAll FREE classes held every Saturday at noon (South Austin location):\n4201 S. Congress Ave. Ste. 310\n512.444.2100\nwww.bihydro.com
URL:https://www.bihydro.com/event/mushrooms-mushroom-composting-garden-jason-avent/
LOCATION:South Austin location\, 4201 S. Congress Ave. Ste. 310\, Austin\, 78745
CATEGORIES:Classes
ATTACH;FMTTYPE=image/jpeg:https://www.bihydro.com/wp-content/uploads/2017/12/ShitakeLog.jpg
END:VEVENT
BEGIN:VEVENT
DTSTART;TZID=UTC:20171209T120000
DTEND;TZID=UTC:20171209T133000
DTSTAMP:20260423T154334
CREATED:20171206T031454Z
LAST-MODIFIED:20171206T031454Z
UID:3234-1512820800-1512826200@www.bihydro.com
SUMMARY:KOMBUCHA FOR YOUR HEALTH with Jason Avent!
DESCRIPTION:Kombucha tastes great\, but the health benefits are often ill-defined “lore”. A great deal of science has been done to define how and why kombucha affects conditions like cancer and inflammation. Come explore the health benefits of this traditional beverage. \n  \nAll FREE classes held every Saturday at noon (South Austin location): \n4201 S. Congress Ave. Ste. 310\n512.444.2100\nwww.bihydro.com
URL:https://www.bihydro.com/event/kombucha-health-jason-avent/
LOCATION:South Austin location\, 4201 S. Congress Ave. Ste. 310\, Austin\, 78745
CATEGORIES:Classes
ATTACH;FMTTYPE=image/jpeg:https://www.bihydro.com/wp-content/uploads/2017/12/KombuchaAsclepius.jpg
END:VEVENT
END:VCALENDAR